BEGIN:VCALENDAR
VERSION:2.0
PRODID:-//magpie - ECPv6.15.20//NONSGML v1.0//EN
CALSCALE:GREGORIAN
METHOD:PUBLISH
X-WR-CALNAME:magpie
X-ORIGINAL-URL:https://magpie.ae
X-WR-CALDESC:Events for magpie
REFRESH-INTERVAL;VALUE=DURATION:PT1H
X-Robots-Tag:noindex
X-PUBLISHED-TTL:PT1H
BEGIN:VTIMEZONE
TZID:Asia/Dubai
BEGIN:STANDARD
TZOFFSETFROM:+0400
TZOFFSETTO:+0400
TZNAME:+04
DTSTART:20250101T000000
END:STANDARD
END:VTIMEZONE
BEGIN:VEVENT
DTSTART;VALUE=DATE:20260414
DTEND;VALUE=DATE:20260415
DTSTAMP:20260422T120056
CREATED:20260203T131247Z
LAST-MODIFIED:20260203T131247Z
UID:10013386-1776124800-1776211199@magpie.ae
SUMMARY:Maggie Otieno: Sojourner – The Difference Is the Same
DESCRIPTION:Otieno’s first solo presentation with Efie centres on her signature transformation of reclaimed and distressed materials. Working across wood\, metal\, and mixed media\, her semi-abstract forms explore layered narratives of history\, memory\, human interaction\, and environmental survival. To 16 May. \nAbove: Maggie Otieno\, Unforgotten Memories (1) (2024)
URL:https://magpie.ae/event/maggie-otieno-sojourner-the-difference-is-the-same/
LOCATION:Efiɛ Gallery\, 2 Al Khayat Art Avenue\, First Al Khail Street\, Dubai
CATEGORIES:Art,Exhibition
ATTACH;FMTTYPE=image/webp:https://magpie.ae/wp-content/uploads/2026/02/Maggie-Otieno-Unforgotten-Memories-1-2024.webp
GEO:25.1399294;55.2285748
X-APPLE-STRUCTURED-LOCATION;VALUE=URI;X-ADDRESS=Efiɛ Gallery 2 Al Khayat Art Avenue First Al Khail Street Dubai;X-APPLE-RADIUS=500;X-TITLE=2 Al Khayat Art Avenue\, First Al Khail Street:geo:55.2285748,25.1399294
END:VEVENT
END:VCALENDAR