BEGIN:VCALENDAR
VERSION:2.0
PRODID:-//magpie - ECPv6.15.20//NONSGML v1.0//EN
CALSCALE:GREGORIAN
METHOD:PUBLISH
X-WR-CALNAME:magpie
X-ORIGINAL-URL:https://magpie.ae
X-WR-CALDESC:Events for magpie
REFRESH-INTERVAL;VALUE=DURATION:PT1H
X-Robots-Tag:noindex
X-PUBLISHED-TTL:PT1H
BEGIN:VTIMEZONE
TZID:Asia/Dubai
BEGIN:STANDARD
TZOFFSETFROM:+0400
TZOFFSETTO:+0400
TZNAME:+04
DTSTART:20250101T000000
END:STANDARD
END:VTIMEZONE
BEGIN:VEVENT
DTSTART;TZID=Asia/Dubai:20260410T193000
DTEND;TZID=Asia/Dubai:20260410T210000
DTSTAMP:20260421T183042
CREATED:20260402T085308Z
LAST-MODIFIED:20260403T120419Z
UID:10013591-1775849400-1775854800@magpie.ae
SUMMARY:Classical masterpieces by Firdaus Orchestra
DESCRIPTION:Does what it says in the title – Expo City’s excellent all-female orchestra tackles some classical favourites. From the promo: “from sweeping symphonies to iconic overtures\, this concert pays tribute to legendary composers whose works have shaped the history of music … the programme invites you on a journey through the elegance\, drama\, and passion of classical music presented in their signature style that blends tradition with fresh\, modern artistry”. \nThe programme certainly lives up to the promise in the name: \nVivaldi ‘Summer’ from The Four Seasons\nBrahms Symphony No.3 (Third Movement)\nJ S Bach Toccata & Fugue in D minor\nDvořak Symphony No.9 (Fourth Movement)\nMozart Symphony No.40 (First Movement)\nMahler Symphony No.5 (Fourth Movement)\nStravinsky The Rite of Spring\nBeethoven No.7 (Second Movement) \nLooks like great value at a modest AED 75.
URL:https://magpie.ae/event/classical-masterpieces-by-firdaus-orchestra/
LOCATION:House of Arts\, Expo City Dubai\, Dubai
CATEGORIES:Concert
GEO:24.9610386;55.1500446
X-APPLE-STRUCTURED-LOCATION;VALUE=URI;X-ADDRESS=House of Arts Expo City Dubai Dubai;X-APPLE-RADIUS=500;X-TITLE=Expo City Dubai:geo:55.1500446,24.9610386
END:VEVENT
BEGIN:VEVENT
DTSTART;TZID=Asia/Dubai:20260410T200000
DTEND;TZID=Asia/Dubai:20260410T210000
DTSTAMP:20260421T183042
CREATED:20260330T172829Z
LAST-MODIFIED:20260330T172829Z
UID:10013541-1775851200-1775854800@magpie.ae
SUMMARY:The Jazz Night with Olesia Glants & Big Band
DESCRIPTION:“Bold\, dazzling\, and unapologetically fun … jazz standards and iconic pop hits reimagined into sultry\, high-voltage showpieces”. Olesia Glants has a great voice and real stage presence\, and this regular date is usually a good gig.
URL:https://magpie.ae/event/the-jazz-night-with-olesia-glants-big-band-3/
LOCATION:Theatre of Digital Arts\, Souk Madinat Jumeriah\, Dubai
CATEGORIES:Jazz
ATTACH;FMTTYPE=image/webp:https://magpie.ae/wp-content/uploads/2026/01/olesia_5.jpg.webp
GEO:25.1331644;55.1862234
X-APPLE-STRUCTURED-LOCATION;VALUE=URI;X-ADDRESS=Theatre of Digital Arts Souk Madinat Jumeriah Dubai;X-APPLE-RADIUS=500;X-TITLE=Souk Madinat Jumeriah:geo:55.1862234,25.1331644
END:VEVENT
BEGIN:VEVENT
DTSTART;TZID=Asia/Dubai:20260410T200000
DTEND;TZID=Asia/Dubai:20260410T213000
DTSTAMP:20260421T183042
CREATED:20260401T105759Z
LAST-MODIFIED:20260401T105759Z
UID:10013568-1775851200-1775856600@magpie.ae
SUMMARY:Le Prénom
DESCRIPTION:A second performance for Culture Emulsion’s production (in French\, of course) of the popular comedy by Matthieu Delaporte and Alexandre de la Patellière. It’s a story about names and family relationships; 40-something Vincent is about to become a father for the first time. Invited to dinner by his sister and brother-in-law\, he meets up with childhood friend Claude. A convivial evening ensues – until Vincent announces the baby’s name …
URL:https://magpie.ae/event/le-prenom-5/
LOCATION:The Junction\, Unit H72\, Alserkal Avenue\, Dubai\, United Arab Emirates
CATEGORIES:Theatre
GEO:25.1431157;55.2246127
X-APPLE-STRUCTURED-LOCATION;VALUE=URI;X-ADDRESS=The Junction Unit H72 Alserkal Avenue Dubai United Arab Emirates;X-APPLE-RADIUS=500;X-TITLE=Unit H72\, Alserkal Avenue:geo:55.2246127,25.1431157
END:VEVENT
BEGIN:VEVENT
DTSTART;TZID=Asia/Dubai:20260410T203000
DTEND;TZID=Asia/Dubai:20260410T220000
DTSTAMP:20260421T183042
CREATED:20260401T144633Z
LAST-MODIFIED:20260401T145301Z
UID:10013579-1775853000-1775858400@magpie.ae
SUMMARY:The Laughter Factory Premium Comedy Club
DESCRIPTION:The bill for the Laughter Factory’s April tour: \nRobby Collins winner of multiple Comics Choice Awards. Expect razor-sharp storytelling and laid-back swagger from the South African standup\nValentina Danubio Dubai favourite\, mines her real world experience of motherhood and post-baby body battles to the quirks of Dubai life and job hunting for comedy (and music)\nJohn Hague grounded\, relatable\, high-energy Laughter Factory debut for the English funnyman\nViswajit Dilip poet/storyteller \nThe rest of the schedule: \n11 April Studio One Hotel\, Dubai\n12 April The Club\, Abu Dhabi (7pm)\n16 April Mezz\, The Agenda\, Dubai Media City (7pm)\n17 April Radisson DAMAC Hills\, Dubai\n18 April Dukes\, The Palm  \n 
URL:https://magpie.ae/event/the-laughter-factory-premium-comedy-club-89/
LOCATION:Radisson DAMAC Hills\, Hessa Street Dubailand\, Dubai
CATEGORIES:Comedy
GEO:25.0593526;55.2214882
X-APPLE-STRUCTURED-LOCATION;VALUE=URI;X-ADDRESS=Radisson DAMAC Hills Hessa Street Dubailand Dubai;X-APPLE-RADIUS=500;X-TITLE=Hessa Street Dubailand:geo:55.2214882,25.0593526
END:VEVENT
END:VCALENDAR