BEGIN:VCALENDAR
VERSION:2.0
PRODID:-//magpie - ECPv6.15.20//NONSGML v1.0//EN
CALSCALE:GREGORIAN
METHOD:PUBLISH
X-ORIGINAL-URL:https://magpie.ae
X-WR-CALDESC:Events for magpie
REFRESH-INTERVAL;VALUE=DURATION:PT1H
X-Robots-Tag:noindex
X-PUBLISHED-TTL:PT1H
BEGIN:VTIMEZONE
TZID:Asia/Dubai
BEGIN:STANDARD
TZOFFSETFROM:+0400
TZOFFSETTO:+0400
TZNAME:+04
DTSTART:20250101T000000
END:STANDARD
END:VTIMEZONE
BEGIN:VEVENT
DTSTART;VALUE=DATE:20260408
DTEND;VALUE=DATE:20260409
DTSTAMP:20260421T140333
CREATED:20260224T094124Z
LAST-MODIFIED:20260224T095747Z
UID:10013475-1775606400-1775692799@magpie.ae
SUMMARY:LAST CHANCE Abdulqader Al Rais: Al Nayed
DESCRIPTION:A retrospective for one of the artists who have played a central role in shaping the UAE’s modern visual identity\, featuring work from a career spanning more than five decades. Bridging heritage and modernity with authority\, Al Rais’s paintings draw deeply on Emirati heritage\, Islamic culture\, and the interplay between the UAE’s natural landscapes and architecture. As the gallery puts it\, “Al Nayed captures the cultural transformation of the UAE without nostalgia”. \nThe exhibition include rare works from the artist’s private collection and a selection of previously unseen new work\, but also draws substantially from five of the artist’s best known series – Alghaf\, inspired by the ghaf tree\, a national symbol of the UAE; Calligraphy (Hurufiyya)\, where Arabic letters function as visual and spiritual forms; Impressionism\, early depictions of UAE landscapes rendered with soft\, atmospheric brushstrokes; Alhaa\, a distinctive series of watercolours on paper; and Abstract\, which combines geometric elements with landscape compositions. \n 
URL:https://magpie.ae/event/last-chance-abdulqader-al-rais-al-nayed/
LOCATION:Opera Gallery\, DIFC\, Dubai\, United Arab Emirates
CATEGORIES:Art,Exhibition
GEO:25.20884;55.2770323
X-APPLE-STRUCTURED-LOCATION;VALUE=URI;X-ADDRESS=Opera Gallery DIFC Dubai United Arab Emirates;X-APPLE-RADIUS=500;X-TITLE=DIFC:geo:55.2770323,25.20884
END:VEVENT
BEGIN:VEVENT
DTSTART;TZID=Asia/Dubai:20260408T200000
DTEND;TZID=Asia/Dubai:20260408T220000
DTSTAMP:20260421T140333
CREATED:20260401T090343Z
LAST-MODIFIED:20260401T090343Z
UID:10013545-1775678400-1775685600@magpie.ae
SUMMARY:Wednesday Night Impro: Maestro
DESCRIPTION:The Courtyard’s popular evening of elimination improv. Ten actors converge for a night of scenes\, songs and games based on audience suggestions. After each round you score the players on a scale of 1 to 5\, and the one with the lowest score is knocked out. Eventually only one remains\, to be crowned the Maestro. “Fast-paced\, unpredictable\, and hilarious” says the promo\, and you couldn’t argue with that. As with all Courtyard improv evenings it’s free\, but you need to put your name on the guestlist (via the website); and it’s first-come first-served\, so get there early to grab a seat. \n  \n  \n  \n  \n  \n  \n  \n  \n  \n  \n  \n  \n  \n  \n  \n  \n  \n  \n  \n  \n 
URL:https://magpie.ae/event/wednesday-night-impro-maestro-60/
LOCATION:Courtyard Playhouse\, Street 4B\, Al Quoz 1\, Dubai\, United Arab Emirates
CATEGORIES:Improv
GEO:25.177696;55.2504958
X-APPLE-STRUCTURED-LOCATION;VALUE=URI;X-ADDRESS=Courtyard Playhouse Street 4B Al Quoz 1 Dubai United Arab Emirates;X-APPLE-RADIUS=500;X-TITLE=Street 4B\, Al Quoz 1:geo:55.2504958,25.177696
END:VEVENT
END:VCALENDAR