BEGIN:VCALENDAR
VERSION:2.0
PRODID:-//magpie - ECPv6.15.20//NONSGML v1.0//EN
CALSCALE:GREGORIAN
METHOD:PUBLISH
X-WR-CALNAME:magpie
X-ORIGINAL-URL:https://magpie.ae
X-WR-CALDESC:Events for magpie
REFRESH-INTERVAL;VALUE=DURATION:PT1H
X-Robots-Tag:noindex
X-PUBLISHED-TTL:PT1H
BEGIN:VTIMEZONE
TZID:Asia/Dubai
BEGIN:STANDARD
TZOFFSETFROM:+0400
TZOFFSETTO:+0400
TZNAME:+04
DTSTART:20250101T000000
END:STANDARD
END:VTIMEZONE
BEGIN:VEVENT
DTSTART;VALUE=DATE:20260330
DTEND;VALUE=DATE:20260331
DTSTAMP:20260421T181636
CREATED:20260114T174819Z
LAST-MODIFIED:20260114T174915Z
UID:10013293-1774828800-1774915199@magpie.ae
SUMMARY:LAST CHANCE Abdelwahab Hawam: Solo Exhibition
DESCRIPTION:The debut exhibition in the UAE by the emerging Egyptian artist draws inspiration from Hawam’s hometown of El Mahalla El Kubra in Gharbeya Governorate – its countryside\, colours\, and the faces of people who shaped his early life. Working in oils\, Hawam places women at the centre of this universe through surreal\, playful narrative compositions and colours; he reimagines human experiences with an uplifting\, optimistic vision that invites viewers into his vibrant\, magical world.
URL:https://magpie.ae/event/last-chance-abdelwahab-hawam-solo-exhibition/
LOCATION:Fann à Porter\, The Workshop\, Villa 45\, St. 23b\, off Al Wasl Road (opposite Box Park)\, Jumeirah 2\, Dubai
CATEGORIES:Art,Exhibition
GEO:25.1966736;55.2461631
X-APPLE-STRUCTURED-LOCATION;VALUE=URI;X-ADDRESS=Fann à Porter The Workshop Villa 45 St. 23b off Al Wasl Road (opposite Box Park) Jumeirah 2 Dubai;X-APPLE-RADIUS=500;X-TITLE=The Workshop\, Villa 45\, St. 23b\, off Al Wasl Road (opposite Box Park)\, Jumeirah 2:geo:55.2461631,25.1966736
END:VEVENT
BEGIN:VEVENT
DTSTART;VALUE=DATE:20260330
DTEND;VALUE=DATE:20260331
DTSTAMP:20260421T181636
CREATED:20260401T102136Z
LAST-MODIFIED:20260401T102136Z
UID:10013565-1774828800-1774915199@magpie.ae
SUMMARY:All at Once
DESCRIPTION:A group exhibition that reflects on continuity\, resilience\, and quiet optimism at a time when the world can feel uncertain. Says the gallery: “All at Once speaks to the coexistence of multiple realities – personal and shared\, fleeting and enduring\, grounded and aspirational. Through an eclectic mix of perspectives and practices\, the exhibition embraces this simultaneity\, offering a space where contrasts do not compete\, but instead unfold together”. \nThe artists: \nZhang Ji (China)\nGary Lang (USA)\nConrad Jon Godly (Switzerland)\nKojo Marfo (Ghana)\nSantiago Parra (Colombia)\nSophie-Yen Bretez (Vietnam)\nTim Kent (Canada)\nUr Kasin (Romania)\nRichard Wathen (UK)\nYann Leto (France)\nHenrik Uldalen (South Korea)\nLu Xinjian (China) \nTo 15 May. \nAbove: Ur Kasin\, The Painter on the Road to Dubai (2024-25)
URL:https://magpie.ae/event/all-at-once/
LOCATION:JD Malat Gallery\, ACT 2 Tower\, Sheikh Mohammed Bin Rashid Blvd 13A \,Downtown Dubai\, Dubai
CATEGORIES:Art,Exhibition
ATTACH;FMTTYPE=image/webp:https://magpie.ae/wp-content/uploads/2026/04/jdmalatgallery-ur-kasin-the-painter-on-the-road-to-dubai-2024-2025.webp
GEO:25.1926401;55.2716753
X-APPLE-STRUCTURED-LOCATION;VALUE=URI;X-ADDRESS=JD Malat Gallery ACT 2 Tower Sheikh Mohammed Bin Rashid Blvd 13A Downtown Dubai Dubai;X-APPLE-RADIUS=500;X-TITLE=ACT 2 Tower\, Sheikh Mohammed Bin Rashid Blvd 13A \,Downtown Dubai:geo:55.2716753,25.1926401
END:VEVENT
END:VCALENDAR