BEGIN:VCALENDAR
VERSION:2.0
PRODID:-//magpie - ECPv6.15.20//NONSGML v1.0//EN
CALSCALE:GREGORIAN
METHOD:PUBLISH
X-WR-CALNAME:magpie
X-ORIGINAL-URL:https://magpie.ae
X-WR-CALDESC:Events for magpie
REFRESH-INTERVAL;VALUE=DURATION:PT1H
X-Robots-Tag:noindex
X-PUBLISHED-TTL:PT1H
BEGIN:VTIMEZONE
TZID:Asia/Dubai
BEGIN:STANDARD
TZOFFSETFROM:+0400
TZOFFSETTO:+0400
TZNAME:+04
DTSTART:20250101T000000
END:STANDARD
END:VTIMEZONE
BEGIN:VEVENT
DTSTART;VALUE=DATE:20260327
DTEND;VALUE=DATE:20260330
DTSTAMP:20260421T123113
CREATED:20260311T151005Z
LAST-MODIFIED:20260325T172036Z
UID:10013508-1774569600-1774828799@magpie.ae
SUMMARY:POSTPONED March Meeting 2026
DESCRIPTION:Sharjah Art Foundation’s annual convening of artists\, curators\, scholars and arts practitioners from around the world to discuss issues in contemporary art focuses this time on effective responses to global challenges in social unrest\, environmental degradation\, systemic erasure and alienation. \nThrough panels\, keynotes\, conversations and performances\, participants will examine how historical entanglements of language\, geography\, economy and social organisation shape our present. How can kinship\, memory and humour sustain connection even as shared stories fracture or fade? What forms of transmission – oral\, visual\, sonic\, literary\, archival – can trace the movement of knowledge and experience between people and places? \nThe March Meeting is always interesting and often insightful; there aren’t many equivalent symposia anywhere in the world (especially when attendance is free).  The provisional programme is here.
URL:https://magpie.ae/event/march-meeting-2026/
LOCATION:Al Qasimiyah School\, Sheikh Saqr Bin Khalid Al Qasimi St\, Sharjah
CATEGORIES:Art,Conference
GEO:25.3447854;55.4028485
X-APPLE-STRUCTURED-LOCATION;VALUE=URI;X-ADDRESS=Al Qasimiyah School Sheikh Saqr Bin Khalid Al Qasimi St Sharjah;X-APPLE-RADIUS=500;X-TITLE=Sheikh Saqr Bin Khalid Al Qasimi St:geo:55.4028485,25.3447854
END:VEVENT
BEGIN:VEVENT
DTSTART;VALUE=DATE:20260329
DTEND;VALUE=DATE:20260330
DTSTAMP:20260421T123113
CREATED:20260316T180333Z
LAST-MODIFIED:20260316T180333Z
UID:10013524-1774742400-1774828799@magpie.ae
SUMMARY:Bashar Khalaf: The Field of Dreams
DESCRIPTION:Khalaf explores the relationship between self\, object\, and other through a focus on ‘steel’ in public spaces: The Field of Dreams\, or “dreams as minefields”\, remind us of the modern structures of unbridled capitalism and the transformative domination of life. This is delivered via two series of oil paintings\, The Junk Garden and The Protective Shield. The latter is particularly powerful\, using garbage bins as symbols of resistance during the First Intifada – juxtaposing their role as protective barriers against the colonial settler machinery with the oppressive use of steel barrels to enforce isolation.\nKhalaf asks questions about humanity’s choices in the face of hegemony and the nature of freedom in contemporary society. \nTo 1 June.
URL:https://magpie.ae/event/bashar-khalaf-the-field-of-dreams/
LOCATION:Zawyeh Gallery\, Warehouse 27\, Alserkal Avenue\, Dubai
CATEGORIES:Art,Exhibition
ATTACH;FMTTYPE=image/webp:https://magpie.ae/wp-content/uploads/2026/03/Bashar-Khalaf-1.webp
GEO:25.1431157;55.2246127
X-APPLE-STRUCTURED-LOCATION;VALUE=URI;X-ADDRESS=Zawyeh Gallery Warehouse 27 Alserkal Avenue Dubai;X-APPLE-RADIUS=500;X-TITLE=Warehouse 27\, Alserkal Avenue:geo:55.2246127,25.1431157
END:VEVENT
BEGIN:VEVENT
DTSTART;TZID=Asia/Dubai:20260329T163000
DTEND;TZID=Asia/Dubai:20260329T180000
DTSTAMP:20260421T123113
CREATED:20260325T163820Z
LAST-MODIFIED:20260325T163820Z
UID:10013538-1774801800-1774807200@magpie.ae
SUMMARY:Laughter Therapy: Community Comedy Workshop
DESCRIPTION:Dubomedy is hosting a free community comedy workshop designed to help participants release stress\, reconnect with laughter\, and learn simple humour exercises that calm the mind and shift perspective during uncertain times. Participants will get to work with Dubomedy’s Ali Al Sayed and Mina Liccione\, both  comedians and trainers\, and you’ll leave with “practical exercises they can use anytime to reset\, relax\, and find the funny side of life”. No comedy experience needed; it’s free\, but space is limited so an RSVP is required …
URL:https://magpie.ae/event/laughter-therapy-community-comedy-workshop/
LOCATION:Social Distrikt\, The Pointe\, Palm Jumeirah\, Dubai
CATEGORIES:Comedy,Workshop
GEO:25.1268007;55.1219323
X-APPLE-STRUCTURED-LOCATION;VALUE=URI;X-ADDRESS=Social Distrikt The Pointe Palm Jumeirah Dubai;X-APPLE-RADIUS=500;X-TITLE=The Pointe\, Palm Jumeirah:geo:55.1219323,25.1268007
END:VEVENT
BEGIN:VEVENT
DTSTART;TZID=Asia/Dubai:20260329T190000
DTEND;TZID=Asia/Dubai:20260329T213000
DTSTAMP:20260421T123113
CREATED:20260325T135354Z
LAST-MODIFIED:20260325T142348Z
UID:10013535-1774810800-1774819800@magpie.ae
SUMMARY:Sunday Night Comedy
DESCRIPTION:Dubomedy’s highly successful comedy gig at Hushh in Social Distrikt. We’re promised “a fantastic lineup of comedians\, laughter and levity\, and great vibes”; and indeed much of that seems to be the case … It’s free\, but there’s a minimum spend of one food or drink item.
URL:https://magpie.ae/event/sunday-night-comedy-8/
LOCATION:Social Distrikt\, The Pointe\, Palm Jumeirah\, Dubai
CATEGORIES:Comedy
GEO:25.1268007;55.1219323
X-APPLE-STRUCTURED-LOCATION;VALUE=URI;X-ADDRESS=Social Distrikt The Pointe Palm Jumeirah Dubai;X-APPLE-RADIUS=500;X-TITLE=The Pointe\, Palm Jumeirah:geo:55.1219323,25.1268007
END:VEVENT
BEGIN:VEVENT
DTSTART;TZID=Asia/Dubai:20260329T193000
DTEND;TZID=Asia/Dubai:20260329T210000
DTSTAMP:20260421T123113
CREATED:20260325T135035Z
LAST-MODIFIED:20260325T135035Z
UID:10013534-1774812600-1774818000@magpie.ae
SUMMARY:Jake's Women
DESCRIPTION:Final performance for Neil Simon’s comedy of relationships. Jake is a New York novelist with a troubled marriage; he can’t stop talking to other women in his life\, some of whom are imaginary\, in an attempt to gain some insight on the problem …
URL:https://magpie.ae/event/jakes-women-3/
LOCATION:The Junction\, Unit H72\, Alserkal Avenue\, Dubai\, United Arab Emirates
CATEGORIES:Theatre
GEO:25.1431157;55.2246127
X-APPLE-STRUCTURED-LOCATION;VALUE=URI;X-ADDRESS=The Junction Unit H72 Alserkal Avenue Dubai United Arab Emirates;X-APPLE-RADIUS=500;X-TITLE=Unit H72\, Alserkal Avenue:geo:55.2246127,25.1431157
END:VEVENT
END:VCALENDAR