BEGIN:VCALENDAR
VERSION:2.0
PRODID:-//magpie - ECPv6.15.20//NONSGML v1.0//EN
CALSCALE:GREGORIAN
METHOD:PUBLISH
X-ORIGINAL-URL:https://magpie.ae
X-WR-CALDESC:Events for magpie
REFRESH-INTERVAL;VALUE=DURATION:PT1H
X-Robots-Tag:noindex
X-PUBLISHED-TTL:PT1H
BEGIN:VTIMEZONE
TZID:Asia/Dubai
BEGIN:STANDARD
TZOFFSETFROM:+0400
TZOFFSETTO:+0400
TZNAME:+04
DTSTART:20250101T000000
END:STANDARD
END:VTIMEZONE
BEGIN:VEVENT
DTSTART;VALUE=DATE:20260327
DTEND;VALUE=DATE:20260330
DTSTAMP:20260421T194006
CREATED:20260311T151005Z
LAST-MODIFIED:20260325T172036Z
UID:10013508-1774569600-1774828799@magpie.ae
SUMMARY:POSTPONED March Meeting 2026
DESCRIPTION:Sharjah Art Foundation’s annual convening of artists\, curators\, scholars and arts practitioners from around the world to discuss issues in contemporary art focuses this time on effective responses to global challenges in social unrest\, environmental degradation\, systemic erasure and alienation. \nThrough panels\, keynotes\, conversations and performances\, participants will examine how historical entanglements of language\, geography\, economy and social organisation shape our present. How can kinship\, memory and humour sustain connection even as shared stories fracture or fade? What forms of transmission – oral\, visual\, sonic\, literary\, archival – can trace the movement of knowledge and experience between people and places? \nThe March Meeting is always interesting and often insightful; there aren’t many equivalent symposia anywhere in the world (especially when attendance is free).  The provisional programme is here.
URL:https://magpie.ae/event/march-meeting-2026/
LOCATION:Al Qasimiyah School\, Sheikh Saqr Bin Khalid Al Qasimi St\, Sharjah
CATEGORIES:Art,Conference
GEO:25.3447854;55.4028485
X-APPLE-STRUCTURED-LOCATION;VALUE=URI;X-ADDRESS=Al Qasimiyah School Sheikh Saqr Bin Khalid Al Qasimi St Sharjah;X-APPLE-RADIUS=500;X-TITLE=Sheikh Saqr Bin Khalid Al Qasimi St:geo:55.4028485,25.3447854
END:VEVENT
BEGIN:VEVENT
DTSTART;TZID=Asia/Dubai:20260328T193000
DTEND;TZID=Asia/Dubai:20260328T210000
DTSTAMP:20260421T194006
CREATED:20260325T134954Z
LAST-MODIFIED:20260325T135005Z
UID:10013533-1774726200-1774731600@magpie.ae
SUMMARY:Jake's Women
DESCRIPTION:A second performance for Neil Simon’s comedy of relationships. Jake is a New York novelist with a troubled marriage; he can’t stop talking to other women in his life\, some of whom are imaginary\, in an attempt to gain some insight on the problem … There’s a final show on 29 March.
URL:https://magpie.ae/event/jakes-women-2/
LOCATION:The Junction\, Unit H72\, Alserkal Avenue\, Dubai\, United Arab Emirates
CATEGORIES:Theatre
GEO:25.1431157;55.2246127
X-APPLE-STRUCTURED-LOCATION;VALUE=URI;X-ADDRESS=The Junction Unit H72 Alserkal Avenue Dubai United Arab Emirates;X-APPLE-RADIUS=500;X-TITLE=Unit H72\, Alserkal Avenue:geo:55.2246127,25.1431157
END:VEVENT
BEGIN:VEVENT
DTSTART;TZID=Asia/Dubai:20260328T200000
DTEND;TZID=Asia/Dubai:20260328T220000
DTSTAMP:20260421T194006
CREATED:20260316T103611Z
LAST-MODIFIED:20260325T174404Z
UID:10013523-1774728000-1774735200@magpie.ae
SUMMARY:Joke Hub
DESCRIPTION:A regular Mad Cat Comedy night – “Dubai’s wildest comedy show on Saturday” at “the first purpose built comedy room in the country”. The cover charge of AED 99 includes two F&B coupons.
URL:https://magpie.ae/event/joke-hub-20/
LOCATION:Canopy by Hilton Dubai Al Seef\, Al Seef Street\, Umm Hurair 1\, Dubai
CATEGORIES:Comedy
GEO:25.2558677;55.310187
X-APPLE-STRUCTURED-LOCATION;VALUE=URI;X-ADDRESS=Canopy by Hilton Dubai Al Seef Al Seef Street Umm Hurair 1 Dubai;X-APPLE-RADIUS=500;X-TITLE=Al Seef Street\, Umm Hurair 1:geo:55.310187,25.2558677
END:VEVENT
END:VCALENDAR