BEGIN:VCALENDAR
VERSION:2.0
PRODID:-//magpie - ECPv6.15.20//NONSGML v1.0//EN
CALSCALE:GREGORIAN
METHOD:PUBLISH
X-ORIGINAL-URL:https://magpie.ae
X-WR-CALDESC:Events for magpie
REFRESH-INTERVAL;VALUE=DURATION:PT1H
X-Robots-Tag:noindex
X-PUBLISHED-TTL:PT1H
BEGIN:VTIMEZONE
TZID:Asia/Dubai
BEGIN:STANDARD
TZOFFSETFROM:+0400
TZOFFSETTO:+0400
TZNAME:+04
DTSTART:20250101T000000
END:STANDARD
END:VTIMEZONE
BEGIN:VEVENT
DTSTART;VALUE=DATE:20260327
DTEND;VALUE=DATE:20260330
DTSTAMP:20260421T224202
CREATED:20260311T151005Z
LAST-MODIFIED:20260325T172036Z
UID:10013508-1774569600-1774828799@magpie.ae
SUMMARY:POSTPONED March Meeting 2026
DESCRIPTION:Sharjah Art Foundation’s annual convening of artists\, curators\, scholars and arts practitioners from around the world to discuss issues in contemporary art focuses this time on effective responses to global challenges in social unrest\, environmental degradation\, systemic erasure and alienation. \nThrough panels\, keynotes\, conversations and performances\, participants will examine how historical entanglements of language\, geography\, economy and social organisation shape our present. How can kinship\, memory and humour sustain connection even as shared stories fracture or fade? What forms of transmission – oral\, visual\, sonic\, literary\, archival – can trace the movement of knowledge and experience between people and places? \nThe March Meeting is always interesting and often insightful; there aren’t many equivalent symposia anywhere in the world (especially when attendance is free).  The provisional programme is here.
URL:https://magpie.ae/event/march-meeting-2026/
LOCATION:Al Qasimiyah School\, Sheikh Saqr Bin Khalid Al Qasimi St\, Sharjah
CATEGORIES:Art,Conference
GEO:25.3447854;55.4028485
X-APPLE-STRUCTURED-LOCATION;VALUE=URI;X-ADDRESS=Al Qasimiyah School Sheikh Saqr Bin Khalid Al Qasimi St Sharjah;X-APPLE-RADIUS=500;X-TITLE=Sheikh Saqr Bin Khalid Al Qasimi St:geo:55.4028485,25.3447854
END:VEVENT
BEGIN:VEVENT
DTSTART;TZID=Asia/Dubai:20260327T193000
DTEND;TZID=Asia/Dubai:20260327T210000
DTSTAMP:20260421T224202
CREATED:20260325T134835Z
LAST-MODIFIED:20260325T134835Z
UID:10013532-1774639800-1774645200@magpie.ae
SUMMARY:Jake's Women
DESCRIPTION:Jake is a New York novelist with a troubled marriage; he can’t stop talking to other women in his life\, some of whom are imaginary\, in an attempt to gain some insight on the problem – his daughter Molly\, his sister Karen\, his psychiatrist Edith\, his dead wife Julie … The result is a poignant comedy with a witty take on modern relationships. It’s by Neil Simon\, of course\, but you could probably have guessed that. Sumaya Kubeisy for the Junction’s house company H2 Productions. \nThere are two further performances on 28 and 29 March.
URL:https://magpie.ae/event/jakes-women/
LOCATION:The Junction\, Unit H72\, Alserkal Avenue\, Dubai\, United Arab Emirates
CATEGORIES:Theatre
GEO:25.1431157;55.2246127
X-APPLE-STRUCTURED-LOCATION;VALUE=URI;X-ADDRESS=The Junction Unit H72 Alserkal Avenue Dubai United Arab Emirates;X-APPLE-RADIUS=500;X-TITLE=Unit H72\, Alserkal Avenue:geo:55.2246127,25.1431157
END:VEVENT
BEGIN:VEVENT
DTSTART;TZID=Asia/Dubai:20260327T200000
DTEND;TZID=Asia/Dubai:20260327T223000
DTSTAMP:20260421T224202
CREATED:20260303T183521Z
LAST-MODIFIED:20260303T183521Z
UID:10013499-1774641600-1774650600@magpie.ae
SUMMARY:Comedy Backyard at McGettigan's
DESCRIPTION:Flamingo Live’s standup gig in Al Barsha South: we’re promised “some of Dubai’s funniest comedians” in “one of Dubai’s most exciting comedy shows”. The door price includes one drink.
URL:https://magpie.ae/event/comedy-backyard-at-mcgettigans/
LOCATION:McGettigan’s Dubai Science Park\, Holiday Inn Dubai Science Park\, Al Barsha South\, Dubai
CATEGORIES:Comedy
GEO:25.0756785;55.2487242
X-APPLE-STRUCTURED-LOCATION;VALUE=URI;X-ADDRESS=McGettigan’s Dubai Science Park Holiday Inn Dubai Science Park Al Barsha South Dubai;X-APPLE-RADIUS=500;X-TITLE=Holiday Inn Dubai Science Park\, Al Barsha South:geo:55.2487242,25.0756785
END:VEVENT
BEGIN:VEVENT
DTSTART;TZID=Asia/Dubai:20260327T210000
DTEND;TZID=Asia/Dubai:20260327T230000
DTSTAMP:20260421T224202
CREATED:20260316T103753Z
LAST-MODIFIED:20260316T103753Z
UID:10013501-1774645200-1774652400@magpie.ae
SUMMARY:Politically Incorrect Comedy
DESCRIPTION:Mad Cat Comedy’s regular standup night at Xandros in Signature 1 Hotel\, TECOM. The cover charge of AED 80 includes one drink.
URL:https://magpie.ae/event/politically-incorrect-comedy-26/
LOCATION:Xandros\, Singature 1 Hotel\, Barsha Heights\, Dubai
CATEGORIES:Comedy
GEO:25.0965195;55.1738621
X-APPLE-STRUCTURED-LOCATION;VALUE=URI;X-ADDRESS=Xandros Singature 1 Hotel Barsha Heights Dubai;X-APPLE-RADIUS=500;X-TITLE=Singature 1 Hotel\, Barsha Heights:geo:55.1738621,25.0965195
END:VEVENT
END:VCALENDAR