BEGIN:VCALENDAR
VERSION:2.0
PRODID:-//magpie - ECPv6.15.20//NONSGML v1.0//EN
CALSCALE:GREGORIAN
METHOD:PUBLISH
X-ORIGINAL-URL:https://magpie.ae
X-WR-CALDESC:Events for magpie
REFRESH-INTERVAL;VALUE=DURATION:PT1H
X-Robots-Tag:noindex
X-PUBLISHED-TTL:PT1H
BEGIN:VTIMEZONE
TZID:Asia/Dubai
BEGIN:STANDARD
TZOFFSETFROM:+0400
TZOFFSETTO:+0400
TZNAME:+04
DTSTART:20250101T000000
END:STANDARD
END:VTIMEZONE
BEGIN:VEVENT
DTSTART;VALUE=DATE:20260318
DTEND;VALUE=DATE:20260319
DTSTAMP:20260422T001515
CREATED:20251231T170730Z
LAST-MODIFIED:20251231T170730Z
UID:10013175-1773792000-1773878399@magpie.ae
SUMMARY:LAST CHANCE Kais Salman: Remnants
DESCRIPTION:New work by Kais Salman\, who “places his audience among ruins … his recent body of work acting as a pile of forgotten images buried beneath decades of historical buildup … Faces emerge through Salman’s energetic brushwork\, only to fade back into the walls and dissolve into material debris. Therefore\, rendering his paintings as spaces of loss …” Recognised for his very characteristic abstract expressionist style\, Salman’s energetic brushwork and gestural application of acrylics in vibrant colours express an urgency and energy\,  “a space where introspection transforms into insight”.
URL:https://magpie.ae/event/last-chance-kais-salman-remnants/
CATEGORIES:Art,Exhibition
END:VEVENT
BEGIN:VEVENT
DTSTART;VALUE=DATE:20260318
DTEND;VALUE=DATE:20260319
DTSTAMP:20260422T001515
CREATED:20260114T131745Z
LAST-MODIFIED:20260114T131809Z
UID:10013291-1773792000-1773878399@magpie.ae
SUMMARY:LAST CHANCE Saher Nassar: Chronicles from the Storm
DESCRIPTION:In this new body of work\, Nassar reflects on prolonged states of loss\, endurance\, and moral exhaustion\, translating deeply personal and collective experiences across multiple mediums. Says the gallery: “Rather than seeking resolution or catharsis\, the works dwell in a state of moral exhaustion where clarity is suspended and certainty dissolves. This prolonged experience becomes a reluctant muse\, granting the artist the distance needed to engage more deeply with his subject matter: studies of loss\, the collapse of familiar symbols\, the formation of new convictions\, and an intimacy with endurance that arrives without epiphany or closure …”
URL:https://magpie.ae/event/last-chance-saher-nassar-chronicles-from-the-storm/
LOCATION:Zawyeh Gallery\, Warehouse 27\, Alserkal Avenue\, Dubai
CATEGORIES:Art,Exhibition
GEO:25.1431157;55.2246127
X-APPLE-STRUCTURED-LOCATION;VALUE=URI;X-ADDRESS=Zawyeh Gallery Warehouse 27 Alserkal Avenue Dubai;X-APPLE-RADIUS=500;X-TITLE=Warehouse 27\, Alserkal Avenue:geo:55.2246127,25.1431157
END:VEVENT
BEGIN:VEVENT
DTSTART;VALUE=DATE:20260318
DTEND;VALUE=DATE:20260319
DTSTAMP:20260422T001515
CREATED:20260223T125020Z
LAST-MODIFIED:20260223T125041Z
UID:10013458-1773792000-1773878399@magpie.ae
SUMMARY:LAST CHANCE Noura Ali-Ramahi: I Am Not a Chair. Am I a Fox?
DESCRIPTION:This solo show includes works created over several years\, using acrylic\, pastel\, ink\, charcoal\, and found materials such as wood\, fabric\, and recycled objects. At the centre of the exhibition is the recurring image of the chair\, appearing as a symbol of structure\, expectation\, and imposed identity. Opposite it stands the fox: alert\, untamed\, and in motion\, representing instinct\, freedom\, and a refusal to remain fixed.
URL:https://magpie.ae/event/last-chance-noura-ali-ramahi-i-am-not-a-chair-am-i-a-fox/
LOCATION:Khawla Art Gallery\, Plaza 30\, 12B Delma St.\, Abu Dhabi
CATEGORIES:Art,Exhibition
GEO:24.413037;54.8753892
X-APPLE-STRUCTURED-LOCATION;VALUE=URI;X-ADDRESS=Khawla Art Gallery Plaza 30 12B Delma St. Abu Dhabi;X-APPLE-RADIUS=500;X-TITLE=Plaza 30\, 12B Delma St.:geo:54.8753892,24.413037
END:VEVENT
BEGIN:VEVENT
DTSTART;TZID=Asia/Dubai:20260318T200000
DTEND;TZID=Asia/Dubai:20260318T220000
DTSTAMP:20260422T001515
CREATED:20260116T104920Z
LAST-MODIFIED:20260116T104920Z
UID:10013304-1773864000-1773871200@magpie.ae
SUMMARY:Wednesday Night Impro: Maestro
DESCRIPTION:The Courtyard’s popular evening of elimination improv. Ten actors converge for a night of scenes\, songs and games based on audience suggestions. After each round you score the players on a scale of 1 to 5\, and the one with the lowest score is knocked out. Eventually only one remains\, to be crowned the Maestro. “Fast-paced\, unpredictable\, and hilarious” says the promo\, and you couldn’t argue with that. As with all Courtyard improv evenings it’s free\, but you need to put your name on the guestlist (via the website); and it’s first-come first-served\, so get there early to grab a seat. \n  \n  \n  \n  \n  \n  \n  \n  \n  \n  \n  \n  \n  \n  \n  \n  \n  \n  \n  \n  \n 
URL:https://magpie.ae/event/wednesday-night-impro-maestro-18mar/
LOCATION:Courtyard Playhouse\, Street 4B\, Al Quoz 1\, Dubai\, United Arab Emirates
CATEGORIES:Improv
GEO:25.177696;55.2504958
X-APPLE-STRUCTURED-LOCATION;VALUE=URI;X-ADDRESS=Courtyard Playhouse Street 4B Al Quoz 1 Dubai United Arab Emirates;X-APPLE-RADIUS=500;X-TITLE=Street 4B\, Al Quoz 1:geo:55.2504958,25.177696
END:VEVENT
END:VCALENDAR