BEGIN:VCALENDAR
VERSION:2.0
PRODID:-//magpie - ECPv6.15.20//NONSGML v1.0//EN
CALSCALE:GREGORIAN
METHOD:PUBLISH
X-WR-CALNAME:magpie
X-ORIGINAL-URL:https://magpie.ae
X-WR-CALDESC:Events for magpie
REFRESH-INTERVAL;VALUE=DURATION:PT1H
X-Robots-Tag:noindex
X-PUBLISHED-TTL:PT1H
BEGIN:VTIMEZONE
TZID:Asia/Dubai
BEGIN:STANDARD
TZOFFSETFROM:+0400
TZOFFSETTO:+0400
TZNAME:+04
DTSTART:20250101T000000
END:STANDARD
END:VTIMEZONE
BEGIN:VEVENT
DTSTART;VALUE=DATE:20260315
DTEND;VALUE=DATE:20260316
DTSTAMP:20260421T211121
CREATED:20260204T101650Z
LAST-MODIFIED:20260311T162050Z
UID:10013397-1773532800-1773619199@magpie.ae
SUMMARY:POSTPONED Artists’ Rooms: Kamruzzaman Shahdin
DESCRIPTION:A monumental one-room installation that restages the Bangladeshi artist’s The River Remembers. Originally commissioned by the Diriyah Biennale Foundation and created in 2023\, this large-scale textile work has handcrafted threads mapping the colour of the water of the Teesta and the Brahmaputra\, two rivers flowing through the Bengal delta. Engraved brass disks convey the memories and migration stories of two women in the artist’s life whose own lives were strongly marked by the river. To 1 November.
URL:https://magpie.ae/event/artists-rooms-kamruzzaman-shahdin/
LOCATION:Jameel Arts Centre\, Al Jaddaf\, Dubai
CATEGORIES:Art,Exhibition
ATTACH;FMTTYPE=image/webp:https://magpie.ae/wp-content/uploads/2026/02/Artists-Rooms-Kamruzzaman-Shahdin.webp
GEO:25.216757;55.3309395
X-APPLE-STRUCTURED-LOCATION;VALUE=URI;X-ADDRESS=Jameel Arts Centre Al Jaddaf Dubai;X-APPLE-RADIUS=500;X-TITLE=Al Jaddaf:geo:55.3309395,25.216757
END:VEVENT
BEGIN:VEVENT
DTSTART;VALUE=DATE:20260315
DTEND;VALUE=DATE:20260316
DTSTAMP:20260421T211121
CREATED:20260316T180838Z
LAST-MODIFIED:20260316T180838Z
UID:10013526-1773532800-1773619199@magpie.ae
SUMMARY:Artists' Rooms: Kamruzzaman Shadhin
DESCRIPTION:This one-room installation restages Shadhin’s monumental The River Remembers. In this large-scale textile artwork\, handcrafted threads map the colour of the water of the Teesta and the Brahmaputra\, two rivers flowing through the Bengal delta. Engraved brass disks convey the memories and migration stories of two women in the artist’s life: his mother and Johura Begum\, a traditional jute weaver in his village. Affected by the 1947 partition of Bengal\, their lives were strongly marked by the river. \nTo 1 November.
URL:https://magpie.ae/event/artists-rooms-kamruzzaman-shadhin/
LOCATION:Jameel Arts Centre\, Al Jaddaf\, Dubai
CATEGORIES:Art,Exhibition
ATTACH;FMTTYPE=image/webp:https://magpie.ae/wp-content/uploads/2026/03/shahdin.webp
GEO:25.216757;55.3309395
X-APPLE-STRUCTURED-LOCATION;VALUE=URI;X-ADDRESS=Jameel Arts Centre Al Jaddaf Dubai;X-APPLE-RADIUS=500;X-TITLE=Al Jaddaf:geo:55.3309395,25.216757
END:VEVENT
BEGIN:VEVENT
DTSTART;TZID=Asia/Dubai:20260315T193000
DTEND;TZID=Asia/Dubai:20260315T220000
DTSTAMP:20260421T211121
CREATED:20260303T182955Z
LAST-MODIFIED:20260303T182955Z
UID:10013498-1773603000-1773612000@magpie.ae
SUMMARY:Around The World in 8 Comedians
DESCRIPTION:Flamingo Live’s “global comedy adventure without leaving Dubai” – eight standups from around the world. The door price is fully redeemable on food and drinks!
URL:https://magpie.ae/event/around-the-world-in-8-comedians/
LOCATION:Daftar\, Mezzanine Floor\, Tower 1 - Al Fattan Currency House\, DIFC\, Dubai
CATEGORIES:Comedy
GEO:25.21236;55.2814369
X-APPLE-STRUCTURED-LOCATION;VALUE=URI;X-ADDRESS=Daftar Mezzanine Floor Tower 1 - Al Fattan Currency House DIFC Dubai;X-APPLE-RADIUS=500;X-TITLE=Mezzanine Floor\, Tower 1 - Al Fattan Currency House\, DIFC:geo:55.2814369,25.21236
END:VEVENT
END:VCALENDAR