BEGIN:VCALENDAR
VERSION:2.0
PRODID:-//magpie - ECPv6.15.20//NONSGML v1.0//EN
CALSCALE:GREGORIAN
METHOD:PUBLISH
X-WR-CALNAME:magpie
X-ORIGINAL-URL:https://magpie.ae
X-WR-CALDESC:Events for magpie
REFRESH-INTERVAL;VALUE=DURATION:PT1H
X-Robots-Tag:noindex
X-PUBLISHED-TTL:PT1H
BEGIN:VTIMEZONE
TZID:Asia/Dubai
BEGIN:STANDARD
TZOFFSETFROM:+0400
TZOFFSETTO:+0400
TZNAME:+04
DTSTART:20250101T000000
END:STANDARD
END:VTIMEZONE
BEGIN:VEVENT
DTSTART;VALUE=DATE:20260310
DTEND;VALUE=DATE:20260311
DTSTAMP:20260422T001315
CREATED:20260107T114502Z
LAST-MODIFIED:20260107T114502Z
UID:10013213-1773100800-1773187199@magpie.ae
SUMMARY:LAST CHANCE Alia Hussain Lootah: In the Space of Becoming
DESCRIPTION:In this new body of work – paintings\, drawings\, and sculpture – Alia Lootah continues an exploration of how form moves\, shifts\, and transforms (“a form is never finished\, only paused”). Shapes stretch\, collapse\, and reappear altered\, “existing in a space between recognition and ambiguity” as the gallery puts it. \nThe exhibition is anchored by knitted sculptures that demonstrate how simple materials can generate complexity – structures produced by a meditative\, rhythmic act shaped by memory and labour\, contrasting softness and stability\, movement and stillness. “The exhibition invites viewers to engage patiently\, witnessing forms that are always unfolding\, always becoming …”
URL:https://magpie.ae/event/last-chance-alia-hussain-lootah-in-the-space-of-becoming/
LOCATION:Aisha Alabbar Gallery\, Warehouse C19\, Alserkal Avenue\, Dubai
CATEGORIES:Art,Exhibition
GEO:25.1196663;55.217749
X-APPLE-STRUCTURED-LOCATION;VALUE=URI;X-ADDRESS=Aisha Alabbar Gallery Warehouse C19 Alserkal Avenue Dubai;X-APPLE-RADIUS=500;X-TITLE=Warehouse C19\, Alserkal Avenue:geo:55.217749,25.1196663
END:VEVENT
END:VCALENDAR