BEGIN:VCALENDAR
VERSION:2.0
PRODID:-//magpie - ECPv6.15.20//NONSGML v1.0//EN
CALSCALE:GREGORIAN
METHOD:PUBLISH
X-ORIGINAL-URL:https://magpie.ae
X-WR-CALDESC:Events for magpie
REFRESH-INTERVAL;VALUE=DURATION:PT1H
X-Robots-Tag:noindex
X-PUBLISHED-TTL:PT1H
BEGIN:VTIMEZONE
TZID:Asia/Dubai
BEGIN:STANDARD
TZOFFSETFROM:+0400
TZOFFSETTO:+0400
TZNAME:+04
DTSTART:20250101T000000
END:STANDARD
END:VTIMEZONE
BEGIN:VEVENT
DTSTART;VALUE=DATE:20260226
DTEND;VALUE=DATE:20260309
DTSTAMP:20260423T141222
CREATED:20260218T104113Z
LAST-MODIFIED:20260218T104113Z
UID:10013456-1772064000-1773014399@magpie.ae
SUMMARY:Big Bad Wolf Book Sale
DESCRIPTION:The self-styled “World’s Biggest Book Sale” is returning to Sound Stages\, Dubai Studio City\, from 26 February to 8 March\, open daily 10am to midnight with something like two million titles in various genres on sale with prices from AED 2 and discounts elsewhere of up to 75 percent on RRP. Especially good for kids\, but there should be something for everyone (though you may have to hunt through the numerous aisles for it).
URL:https://magpie.ae/event/big-bad-wolf-book-sale-2/
LOCATION:Dubai Studio City\, Dubai
CATEGORIES:Words
END:VEVENT
BEGIN:VEVENT
DTSTART;VALUE=DATE:20260306
DTEND;VALUE=DATE:20260309
DTSTAMP:20260423T141222
CREATED:20260225T115549Z
LAST-MODIFIED:20260225T115549Z
UID:10013481-1772755200-1773014399@magpie.ae
SUMMARY:Jameel Arts Centre: Ramadan Nights
DESCRIPTION:Ramadan Nights returns to the Jameel for a weekend of evening workshops led by local artists\, self-guided creative activities and late-night access to the current exhibitions. There will also be the Ramadan Souk’s curated stalls and traditional comestibles\, plus a farmers’ market for locally sourced produce and crafts. Opening times are 8.30pm to 11.30pm.
URL:https://magpie.ae/event/jameel-arts-centre-ramadan-nights/
LOCATION:Jameel Arts Centre\, Al Jaddaf\, Dubai
CATEGORIES:Family/kids
GEO:25.216757;55.3309395
X-APPLE-STRUCTURED-LOCATION;VALUE=URI;X-ADDRESS=Jameel Arts Centre Al Jaddaf Dubai;X-APPLE-RADIUS=500;X-TITLE=Al Jaddaf:geo:55.3309395,25.216757
END:VEVENT
BEGIN:VEVENT
DTSTART;VALUE=DATE:20260307
DTEND;VALUE=DATE:20260308
DTSTAMP:20260423T141222
CREATED:20260216T165532Z
LAST-MODIFIED:20260216T165821Z
UID:10013437-1772841600-1772927999@magpie.ae
SUMMARY:Jane Beveridge: Local
DESCRIPTION:The Dubai-based artist’s first solo show aim to capture the essence of Dubai\, and of belonging. Says the artist\, who is currently Head of Art at Dubai College: “my visual palette and material inspiration are rooted in the streets. I am drawn to the beauty of cracked\, stained\, and weathered walls as well as surfaces patched with plaster or paint – they read like large abstract paintings. Corrugated cardboard\, concrete\, sand\, rust\, tangled wires\, weathered wood – all find their way into my work\, each carrying a story of time\, place and texture …” \nTo 6 April.
URL:https://magpie.ae/event/jane-beveridge-local/
LOCATION:XVA Gallery\, Al Fahidi Historical Neighborhood\, Bur Dubai\, Dubai\, United Arab Emirates
CATEGORIES:Art,Exhibition
ATTACH;FMTTYPE=image/webp:https://magpie.ae/wp-content/uploads/2026/02/local.webp
GEO:25.2637606;55.300449
X-APPLE-STRUCTURED-LOCATION;VALUE=URI;X-ADDRESS=XVA Gallery Al Fahidi Historical Neighborhood Bur Dubai Dubai United Arab Emirates;X-APPLE-RADIUS=500;X-TITLE=Al Fahidi Historical Neighborhood\, Bur Dubai:geo:55.300449,25.2637606
END:VEVENT
BEGIN:VEVENT
DTSTART;TZID=Asia/Dubai:20260307T103000
DTEND;TZID=Asia/Dubai:20260307T123000
DTSTAMP:20260423T141222
CREATED:20260225T125831Z
LAST-MODIFIED:20260225T125945Z
UID:10013491-1772879400-1772886600@magpie.ae
SUMMARY:Sarah Al Mehairi: Geometry & Art
DESCRIPTION:A hands-on introduction to using geometry\, abstraction\, and material exploration to build meaning. Led by Emirati artist Sarah Al Mehairi\, whose practice examines language\, materiality\, and memory through intuitive approaches to narrative and abstraction\, the workshop will guide discussions on art history\, techniques\, and styles\, while experimenting with processes inspired by her work. Part of the Dubai Collection Nights programme.
URL:https://magpie.ae/event/sarah-al-mehairi-workshop-geometry-art/
LOCATION:Al Safa Art & Design Library\, Al Safa Park\, Jumeriah 3\, Dubai
CATEGORIES:Art,Workshop
ATTACH;FMTTYPE=image/webp:https://magpie.ae/wp-content/uploads/2026/02/Sarah-Al-Mehairi-.webp
GEO:25.180223;55.2231588
X-APPLE-STRUCTURED-LOCATION;VALUE=URI;X-ADDRESS=Al Safa Art & Design Library Al Safa Park Jumeriah 3 Dubai;X-APPLE-RADIUS=500;X-TITLE=Al Safa Park\, Jumeriah 3:geo:55.2231588,25.180223
END:VEVENT
BEGIN:VEVENT
DTSTART;TZID=Asia/Dubai:20260307T203000
DTEND;TZID=Asia/Dubai:20260307T220000
DTSTAMP:20260423T141222
CREATED:20260217T174248Z
LAST-MODIFIED:20260217T174248Z
UID:10013451-1772915400-1772920800@magpie.ae
SUMMARY:The Laughter Factory Premium Comedy Club
DESCRIPTION:The Laughter Factory is powering through Ramadan with a decent bill: \nAndrew Ryan Hard-working Irish standup with a sharp wit\, good observational comedy\, and a lovely warm voice for telling stories \nYash Bhardwaj The Dubai-based Indian comedian is a stalwart of the local comedy scene\, with quick wit and relatable humour \nRula Korban A magpie favourite – a highly colourful life provides much of her material\, and she really is talented \nThe rest of the schedule: \n12 Mar Al Hamra Golf Club\, RAK (8pm start)\n13 Mar Radisson DAMAC Hills\n14 Mar Dukes The Palm \n 
URL:https://magpie.ae/event/the-laughter-factory-premium-comedy-club-85/
LOCATION:Studio One Hotel\, Dubai Studio City\, Dubai
CATEGORIES:Comedy
GEO:25.0346728;55.2397317
X-APPLE-STRUCTURED-LOCATION;VALUE=URI;X-ADDRESS=Studio One Hotel Dubai Studio City Dubai;X-APPLE-RADIUS=500;X-TITLE=Dubai Studio City:geo:55.2397317,25.0346728
END:VEVENT
END:VCALENDAR