BEGIN:VCALENDAR
VERSION:2.0
PRODID:-//magpie - ECPv6.15.20//NONSGML v1.0//EN
CALSCALE:GREGORIAN
METHOD:PUBLISH
X-WR-CALNAME:magpie
X-ORIGINAL-URL:https://magpie.ae
X-WR-CALDESC:Events for magpie
REFRESH-INTERVAL;VALUE=DURATION:PT1H
X-Robots-Tag:noindex
X-PUBLISHED-TTL:PT1H
BEGIN:VTIMEZONE
TZID:Asia/Dubai
BEGIN:STANDARD
TZOFFSETFROM:+0400
TZOFFSETTO:+0400
TZNAME:+04
DTSTART:20250101T000000
END:STANDARD
END:VTIMEZONE
BEGIN:VEVENT
DTSTART;VALUE=DATE:20260226
DTEND;VALUE=DATE:20260309
DTSTAMP:20260421T163224
CREATED:20260218T104113Z
LAST-MODIFIED:20260218T104113Z
UID:10013456-1772064000-1773014399@magpie.ae
SUMMARY:Big Bad Wolf Book Sale
DESCRIPTION:The self-styled “World’s Biggest Book Sale” is returning to Sound Stages\, Dubai Studio City\, from 26 February to 8 March\, open daily 10am to midnight with something like two million titles in various genres on sale with prices from AED 2 and discounts elsewhere of up to 75 percent on RRP. Especially good for kids\, but there should be something for everyone (though you may have to hunt through the numerous aisles for it).
URL:https://magpie.ae/event/big-bad-wolf-book-sale-2/
LOCATION:Dubai Studio City\, Dubai
CATEGORIES:Words
END:VEVENT
BEGIN:VEVENT
DTSTART;TZID=Asia/Dubai:20260302T150000
DTEND;TZID=Asia/Dubai:20260302T160000
DTSTAMP:20260421T163224
CREATED:20260225T122420Z
LAST-MODIFIED:20260225T122658Z
UID:10013482-1772463600-1772467200@magpie.ae
SUMMARY:Exhibition Tour: In Attunement
DESCRIPTION:This tour with Dubai Collection Curator Jumanah Abbas of the current exhibition of works from the Collection promises an accessible\, close-looking introduction to the exhibition and its key themes. Led through the space with curatorial context\, guests will explore how artists unpack ideas\, materials\, and visual narratives across the works on view\, with time for questions and conversation along the way. \n  \n 
URL:https://magpie.ae/event/exhibition-tour-in-attunement/
LOCATION:Al Safa Art & Design Library\, Al Safa Park\, Jumeriah 3\, Dubai
CATEGORIES:Art,Tour/Visit
GEO:25.180223;55.2231588
X-APPLE-STRUCTURED-LOCATION;VALUE=URI;X-ADDRESS=Al Safa Art & Design Library Al Safa Park Jumeriah 3 Dubai;X-APPLE-RADIUS=500;X-TITLE=Al Safa Park\, Jumeriah 3:geo:55.2231588,25.180223
END:VEVENT
BEGIN:VEVENT
DTSTART;TZID=Asia/Dubai:20260302T200000
DTEND;TZID=Asia/Dubai:20260302T220000
DTSTAMP:20260421T163224
CREATED:20260116T103945Z
LAST-MODIFIED:20260116T103945Z
UID:10013296-1772481600-1772488800@magpie.ae
SUMMARY:Monday Night Comedy: This Is Impro
DESCRIPTION:Exactly what it says: an evening of scenes\, stories and narrative improvisation influenced by audience suggestions and featuring the Courtyard Playhouse’s most experienced improv performers plus guests. It’s free\, but you need to put your name on the guestlist (via the website) – it’s first-come first-served\, so get there early enough to grab a seat.
URL:https://magpie.ae/event/monday-night-comedy-this-is-impro-2mar/
LOCATION:Courtyard Playhouse\, Street 4B\, Al Quoz 1\, Dubai\, United Arab Emirates
CATEGORIES:Improv
GEO:25.177696;55.2504958
X-APPLE-STRUCTURED-LOCATION;VALUE=URI;X-ADDRESS=Courtyard Playhouse Street 4B Al Quoz 1 Dubai United Arab Emirates;X-APPLE-RADIUS=500;X-TITLE=Street 4B\, Al Quoz 1:geo:55.2504958,25.177696
END:VEVENT
END:VCALENDAR