BEGIN:VCALENDAR
VERSION:2.0
PRODID:-//magpie - ECPv6.15.20//NONSGML v1.0//EN
CALSCALE:GREGORIAN
METHOD:PUBLISH
X-WR-CALNAME:magpie
X-ORIGINAL-URL:https://magpie.ae
X-WR-CALDESC:Events for magpie
REFRESH-INTERVAL;VALUE=DURATION:PT1H
X-Robots-Tag:noindex
X-PUBLISHED-TTL:PT1H
BEGIN:VTIMEZONE
TZID:Asia/Dubai
BEGIN:STANDARD
TZOFFSETFROM:+0400
TZOFFSETTO:+0400
TZNAME:+04
DTSTART:20240101T000000
END:STANDARD
END:VTIMEZONE
BEGIN:VEVENT
DTSTART;TZID=Asia/Dubai:20250829T080000
DTEND;TZID=Asia/Dubai:20250829T170000
DTSTAMP:20260422T152503
CREATED:20250513T142226Z
LAST-MODIFIED:20250513T142226Z
UID:10012047-1756454400-1756486800@magpie.ae
SUMMARY:Faraj Suleiman Live in Concert
DESCRIPTION:For his full UAE debut Suleiman takes to the stage with a full band to performing selection from his albums\, including his breakthrough Better Than Berlin and his most recent release Maryam. His music blends jazz\, rock\, classical\, and Arabic influences into a sound that is unmistakably his own. \nIf you were born in a Palestinian village\, a career as a jazz pianist and composer is no straightforward journey; Maryam is Suleiman at his most introspective and cinematic\, ranging from love and romance to a darker expression of transformation and grief. The melancholy is tangible\, but so is the warmth. His music may be instrumental\, but it tells us stories – his own\, but also those of all Palestinians too.
URL:https://magpie.ae/event/faraj-suleiman-live-in-concert/
LOCATION:The Arts Center @ NYUAD\, NYUAD Campus\, Saadiyat Island\, Abu Dhabi\, United Arab Emirates
CATEGORIES:Jazz
ATTACH;FMTTYPE=image/webp:https://magpie.ae/wp-content/uploads/2025/05/faraj_suleiman.webp
GEO:24.5238948;54.4345558
X-APPLE-STRUCTURED-LOCATION;VALUE=URI;X-ADDRESS=The Arts Center @ NYUAD NYUAD Campus Saadiyat Island Abu Dhabi United Arab Emirates;X-APPLE-RADIUS=500;X-TITLE=NYUAD Campus\, Saadiyat Island:geo:54.4345558,24.5238948
END:VEVENT
END:VCALENDAR