BEGIN:VCALENDAR
VERSION:2.0
PRODID:-//magpie - ECPv6.15.20//NONSGML v1.0//EN
CALSCALE:GREGORIAN
METHOD:PUBLISH
X-ORIGINAL-URL:https://magpie.ae
X-WR-CALDESC:Events for magpie
REFRESH-INTERVAL;VALUE=DURATION:PT1H
X-Robots-Tag:noindex
X-PUBLISHED-TTL:PT1H
BEGIN:VTIMEZONE
TZID:Asia/Dubai
BEGIN:STANDARD
TZOFFSETFROM:+0400
TZOFFSETTO:+0400
TZNAME:+04
DTSTART:20240101T000000
END:STANDARD
END:VTIMEZONE
BEGIN:VEVENT
DTSTART;TZID=Asia/Dubai:20250813T200000
DTEND;TZID=Asia/Dubai:20250813T220000
DTSTAMP:20260420T140935
CREATED:20250701T090701Z
LAST-MODIFIED:20250701T090701Z
UID:10012594-1755115200-1755122400@magpie.ae
SUMMARY:Rushdi’s Comedy Souk
DESCRIPTION:A rare midsummer evening of improv and stand-up hosted by Rushdi. The bar’s set pretty high: “from side-splitting stand-up to mesmerising improv\, the finest comedic artists from near and far come to showcase their talent”. \n  \n  \n 
URL:https://magpie.ae/event/rushdis-comedy-souk-7/
LOCATION:Courtyard Playhouse\, Street 4B\, Al Quoz 1\, Dubai\, United Arab Emirates
CATEGORIES:Comedy,Improv
GEO:25.177696;55.2504958
X-APPLE-STRUCTURED-LOCATION;VALUE=URI;X-ADDRESS=Courtyard Playhouse Street 4B Al Quoz 1 Dubai United Arab Emirates;X-APPLE-RADIUS=500;X-TITLE=Street 4B\, Al Quoz 1:geo:55.2504958,25.177696
END:VEVENT
END:VCALENDAR