BEGIN:VCALENDAR
VERSION:2.0
PRODID:-//magpie - ECPv6.15.20//NONSGML v1.0//EN
CALSCALE:GREGORIAN
METHOD:PUBLISH
X-WR-CALNAME:magpie
X-ORIGINAL-URL:https://magpie.ae
X-WR-CALDESC:Events for magpie
REFRESH-INTERVAL;VALUE=DURATION:PT1H
X-Robots-Tag:noindex
X-PUBLISHED-TTL:PT1H
BEGIN:VTIMEZONE
TZID:Asia/Dubai
BEGIN:STANDARD
TZOFFSETFROM:+0400
TZOFFSETTO:+0400
TZNAME:+04
DTSTART:20240101T000000
END:STANDARD
END:VTIMEZONE
BEGIN:VEVENT
DTSTART;VALUE=DATE:20250426
DTEND;VALUE=DATE:20250506
DTSTAMP:20260425T224143
CREATED:20250422T164831Z
LAST-MODIFIED:20250423T073310Z
UID:10011958-1745625600-1746489599@magpie.ae
SUMMARY:Abu Dhabi International Book Fair
DESCRIPTION:This year’s ADIBF – remarkably\, it’s the 34th edition – has the theme ‘Knowledge Illuminates our Community’\, a sentiment which brooks no argument. There are 90 participating countries\, the ‘Focus Personality’ is Avicenna (Ibn Sina)\, the ‘Book of the World’ is One Thousand and One Nights\, and the guest of honour\, usually a single nation\, is Culture of the Caribbean Basin. \nLast year there were more than 230\,000 visitors\, 1\,350 exhibitors\, and reportedly in excess of 1.5 million books sold. All those numbers should be beaten this time around; ADIBF is a genuine force in the booming regional publishing field\, and some clever extras – like a much-expanded ‘Podcast from Abu Dhabi‘ programme\, the Sheikh Zayed Book Award ceremony\, and a famously busy schedule of something like 2\,000 lectures\, panel discussions\, specialised workshops and other activities – make it a good bet for the reader as well as the publishing professional. \nThe book fair has been extended to ten days this year; it runs 9am to 10pm from 26 April to 5 May. Admission is free\, but you’ll need to pre-register.
URL:https://magpie.ae/event/abu-dhabi-international-book-fair-3/
LOCATION:ADNEC\, Abu Dhabi\, United Arab Emirates
CATEGORIES:Book Fair
END:VEVENT
BEGIN:VEVENT
DTSTART;VALUE=DATE:20250501
DTEND;VALUE=DATE:20250505
DTSTAMP:20260425T224143
CREATED:20250414T163321Z
LAST-MODIFIED:20250414T163321Z
UID:10011928-1746057600-1746403199@magpie.ae
SUMMARY:Sharjah Animation Conference
DESCRIPTION:SAC returns for its third annual edition\, again organised in collaboration with Italy’s Bergamo Animation Days (BAD)\, with an extensive (indeed\, impressive) programme of trends\, cutting-edge technologies\, and game-changing opportunities\, This year there’s a substantial Japanese influence – Studio Ghibli notables\, anime in many of the sessions\, an afternoon of cosplay … \nOverall\, it’s a chance for enthusiasts\, current and would-be professionals and industry folk to mingle with some of the world’s best animators – more than 70 of them\, say the organisers\, with the full list here. Headliners include Masayuki Miyaji and Tamiya Terashima\, both associated with Studio Ghibli; Tom Bancroft of Pencilish Animation Studios\, known for his work on Disney classics like Mulan and Aladdin; and the celebrated character designer Sandro Cleuzo\, known for Anastasia\, Tarzan\, and Chip’n Dale (his workshop predictably sold out early\, sadly\, and so has Bancroft’s). \nKhoula Al Mujaini\, Executive Director of SAC\, described animation as “a universal language that transcends borders\, cultures\, and generations … Through SAC\, we aim to celebrate this remarkable art form\, inspire new generations of creatives\, and provide a space where industry leaders can connect\, collaborate\, and push the boundaries of animated storytelling”. \nMost of the artist led workshops are hands-on and/or quite technical\, which justifies the extra costs applied to them. But the standard AED 139 four-pass does give you access to 30+ talks\, panel discussions and roundtables; lots of activations (which usually means people trying to sell you stuff\, but in entertaining fashion); and three live music gigs\, include one “live anime concert”. There’s also a “shared creative space to draw and collaborate”. And of course there will be many screenings.
URL:https://magpie.ae/event/sharjah-animation-conference-2/
LOCATION:Expo Centre Sharjah\, Sharjah
CATEGORIES:Animation,Conference
END:VEVENT
BEGIN:VEVENT
DTSTART;VALUE=DATE:20250504
DTEND;VALUE=DATE:20250505
DTSTAMP:20260425T224143
CREATED:20250128T081724Z
LAST-MODIFIED:20250128T082053Z
UID:10011300-1746316800-1746403199@magpie.ae
SUMMARY:LAST CHANCE Abdullah Al Saadi: Sites of Memory\, Sites of Amnesia
DESCRIPTION:An exhibition of ten works by the influential Khor Fakkan artist\, one of the “Pioneer Five” who bolstered the contemporary art scene in the UAE in the 1980s and influenced a generation of artists in the region. Curated by Tarek Abou El Fetouh\, this show offers a reflection on his decades-long artistic practice; expanding on the work initially presented in the UAE National Pavilion at the 2024 Biennale di Venezia in 2024.
URL:https://magpie.ae/event/last-chance-abdullah-al-saadi-sites-of-memory-sites-of-amnesia/
LOCATION:421 Arts Campus\, Mina Zayed\, Abu Dhabi\, United Arab Emirates
CATEGORIES:Art,Exhibition
GEO:24.5224833;54.3877183
X-APPLE-STRUCTURED-LOCATION;VALUE=URI;X-ADDRESS=421 Arts Campus Mina Zayed Abu Dhabi United Arab Emirates;X-APPLE-RADIUS=500;X-TITLE=Mina Zayed:geo:54.3877183,24.5224833
END:VEVENT
BEGIN:VEVENT
DTSTART;VALUE=DATE:20250504
DTEND;VALUE=DATE:20250505
DTSTAMP:20260425T224143
CREATED:20250128T083500Z
LAST-MODIFIED:20250128T083500Z
UID:10011302-1746316800-1746403199@magpie.ae
SUMMARY:LAST CHANCE Alla Abdunabi: Are your memories of me enough for you?
DESCRIPTION:Alla Abdunabi’s first solo exhibition presents a new body of work that critiques and engages with simulacra\, a concept used in philosophy and cultural studies to analyse how symbols shape our perceptions of what is accepted as “real.” \nAlla Abdunabi is participating in the 2025 cycle of the 421 Artistic Development Program\, an annual capacity-building initiative that provides early-career artists in the UAE with the opportunity to explore new techniques\, test ideas\, and create a cohesive body of work for their first solo exhibition.
URL:https://magpie.ae/event/last-chance-alla-abdunabi-are-your-memories-of-me-enough-for-you/
LOCATION:421 Arts Campus\, Mina Zayed\, Abu Dhabi\, United Arab Emirates
CATEGORIES:Art,Exhibition
GEO:24.5224833;54.3877183
X-APPLE-STRUCTURED-LOCATION;VALUE=URI;X-ADDRESS=421 Arts Campus Mina Zayed Abu Dhabi United Arab Emirates;X-APPLE-RADIUS=500;X-TITLE=Mina Zayed:geo:54.3877183,24.5224833
END:VEVENT
BEGIN:VEVENT
DTSTART;VALUE=DATE:20250504
DTEND;VALUE=DATE:20250505
DTSTAMP:20260425T224143
CREATED:20250402T132356Z
LAST-MODIFIED:20250402T132356Z
UID:10011859-1746316800-1746403199@magpie.ae
SUMMARY:LAST CHANCE Calder / Hiquily: Balancing Act
DESCRIPTION:A clever juxtaposition of works by two masters of the poetry of balance and movement that reveals unexpected harmonies between the artistic languages of Alexander Calder and Philippe Hiquily. Calder’s gouaches on paper\, with their bold colours and rhythmic compositions\, provide a visual counterpoint to Hiquily’s sculptural explorations of balance\, weightlessness\, and abstraction. These works\, essential to Calder’s creative process\, exhibit the same principles that animate his mobiles\, two of which are included in this exhibition – New Old Universe (1953)\, an elegant example of his ‘constellations’\, and Caged Stone on Yellow Stalk (1966)\, a rare standing mobile. With these works are four of Hiquily’s Girouette mobiles\, each representing a different season.
URL:https://magpie.ae/event/last-chance-calder-hiquily-balancing-act/
LOCATION:Opera Gallery\, DIFC\, Dubai\, United Arab Emirates
CATEGORIES:Art,Exhibition
GEO:25.20884;55.2770323
X-APPLE-STRUCTURED-LOCATION;VALUE=URI;X-ADDRESS=Opera Gallery DIFC Dubai United Arab Emirates;X-APPLE-RADIUS=500;X-TITLE=DIFC:geo:55.2770323,25.20884
END:VEVENT
BEGIN:VEVENT
DTSTART;TZID=Asia/Dubai:20250504T143000
DTEND;TZID=Asia/Dubai:20250504T160000
DTSTAMP:20260425T224143
CREATED:20241202T152355Z
LAST-MODIFIED:20250917T193340Z
UID:10010984-1746369000-1746374400@magpie.ae
SUMMARY:Public Art Abu Dhabi Biennial: Bik Van der Pol’s The poem that jumps the fence
DESCRIPTION:Artist duo Bik Van der Pol (Liesbeth Bik and Jos Van der Pol) engage in collaborative projects on how art constructs public spaces for speculative thought and collective creativity. The poem that jumps the fence features weekly performances on Abu Dhabi Beach and workshops connecting words and sand as real and symbolic material that binds our world; every Sunday afternoon\, a performer writes a poem in the sand\, only for it to fade away. During workshops in collaboration with local poets and writers\, participants generate text for the performances. \n  \n 
URL:https://magpie.ae/event/public-art-abu-dhabi-biennial-poetry-workshop-1-in-between-us-within-bik-van-der-pols-the-poem-that-jumps-the-fence-2/2025-05-04/
LOCATION:Abu Dhabi Beach\, Al Hisn Street\, Abu Dhabi\, United Arab Emirates
CATEGORIES:Poetry,Workshop
GEO:24.4834161;54.3527734
X-APPLE-STRUCTURED-LOCATION;VALUE=URI;X-ADDRESS=Abu Dhabi Beach Al Hisn Street Abu Dhabi United Arab Emirates;X-APPLE-RADIUS=500;X-TITLE=Al Hisn Street:geo:54.3527734,24.4834161
END:VEVENT
BEGIN:VEVENT
DTSTART;TZID=Asia/Dubai:20250504T170000
DTEND;TZID=Asia/Dubai:20250504T203000
DTSTAMP:20260425T224143
CREATED:20250715T145537Z
LAST-MODIFIED:20250715T151058Z
UID:10012612-1746378000-1746390600@magpie.ae
SUMMARY:Collected Histories: Personal Archives and Documentation
DESCRIPTION:Collected Histories\, a project co-founded by Hind Mezaina and Jasmine Soliman\, aims to foster discussion on personal documentation and archiving “with an ultimate goal of inspiring and supporting individuals to become ‘citizen archivists’ by cataloguing\, and exploring ways to self-publish and preserve personal collections”. The project includes talks\, workshops\, and public film screenings – which this evening includes all three. \nFilms\nFour short films focused on archives\, memories\, and identity followed by a short discussion between Mezaina\, Soliman and the audience. \nBetween Delicate and Violent dir Şirin Bahar Demirel (2023\, 15 min) Experimental documentary that considers hands as memory places that can both accumulate and transfer memories – what some artists call “hand memory\,” triggered when they begin painting\, sculpting\, or drawing and retained in the body rather than the brain … \nMy Father dir Pegah Ahangarani Farahanilran (2023\, 19 min) A personal essay from the director\, examining the life of her father as a revolutionary filmmaker and activist in Iran and the impact of the execution of his friend Davood … \nAt Home But Not At Home dir Suneil Sanzgiri (2019\, 11 min) An experimental essay about anti-colonial solidarity\, based on the story of the director’s father and his Goan heritage to question the construction of artifice\, memory\, and identity through the moving image. \nRankin Street\, 1953 dir Naeem Mohaieman (2013\, 8 min) Mohaiemen’s projects all revolve around modern history\, with a particular focus on South Asia and the 1970s. Merging personal and national histories\, Mohaiemen explores the gaps in historical memory. \nWorkshop\nThe workshop will explore the importance of archival self-representation\, the objects we keep and why.  Attendees should bring at least one item from their personal archive – family photos\, letters\, diaries\, heirlooms. This event is open to all\, and no prior knowledge about archival practice is required.
URL:https://magpie.ae/event/collected-histories-personal-archives-and-documentation-2/
LOCATION:421 Arts Campus\, Mina Zayed\, Abu Dhabi\, United Arab Emirates
CATEGORIES:Film,Workshop
ATTACH;FMTTYPE=image/webp:https://magpie.ae/wp-content/uploads/2025/07/collected-histories.webp
GEO:24.5224833;54.3877183
X-APPLE-STRUCTURED-LOCATION;VALUE=URI;X-ADDRESS=421 Arts Campus Mina Zayed Abu Dhabi United Arab Emirates;X-APPLE-RADIUS=500;X-TITLE=Mina Zayed:geo:54.3877183,24.5224833
END:VEVENT
BEGIN:VEVENT
DTSTART;TZID=Asia/Dubai:20250504T173000
DTEND;TZID=Asia/Dubai:20250504T203000
DTSTAMP:20260425T224143
CREATED:20250429T104053Z
LAST-MODIFIED:20250429T104106Z
UID:10011997-1746379800-1746390600@magpie.ae
SUMMARY:Collected Histories: Personal Archives and Documentation
DESCRIPTION:Collected Histories\, a project co-founded by Hind Mezaina and Jasmine Soliman\, aims to foster discussion on personal documentation and archiving “with an ultimate goal of inspiring and supporting individuals to become ‘citizen archivists’ by cataloguing\, and exploring ways to self-publish and preserve personal collections”. The project includes talks\, workshops\, and public film screenings – which this evening includes all three. \nFilms\nFour short films focused on archives\, memories\, and identity followed by a short discussion between Mezaina\, Soliman and the audience. \nDon’t Get Too Comfortable dir Shaima Al Tamimi (2021\, 9 min) Questioning the continuous pattern of movement amongst Yemenis in diaspora\, the filmmaker fuses archival photographs and sourced footage\, calling attention to the collective feeling of statelessness and sense of being felt by migrants. \nWhere Am I From? / Ana min wein? dir Nouf Aljowaysir (2022\, 13 min) The filmmaker explores her identity by tracing her childhood and family memories by constructing her genealogical journey using two different voices\, her own and an AI ‘narrator’\, revealing stereotypes and biases derived from its algorithmic composition. \nStill Processing dir Sophy Romvari (2020\, 17 min) A box of stunning family photos unseen for decades awakens lost memories as they are viewed for the first time on camera. \nThe Flowers Stand Silently\, Witnessing dir Theo Panagopoulos (2024\, 17 min) When a filmmaker of Palestinian descent based in Scotland unearths a rarely-seen Scottish film archive of Palestinian wildflowers\, he decides to reclaim the footage. The film questions the role of image-making as a tool of both testimony and violence when connected to entanglements between people and the land. \nWorkshop\nThe workshop will explore the importance of archival self-representation\, the objects we keep and why.  Attendees should bring at least one item from their personal archive – family photos\, letters\, diaries\, heirlooms. This event is open to all\, and no prior knowledge about archival practice is required.
URL:https://magpie.ae/event/collected-histories-personal-archives-and-documentation/
LOCATION:421 Arts Campus\, Mina Zayed\, Abu Dhabi\, United Arab Emirates
CATEGORIES:Film,Workshop
ATTACH;FMTTYPE=image/webp:https://magpie.ae/wp-content/uploads/2025/04/collected-histories-jasmin-soliman-cropped-67ee5b7761d34.webp
GEO:24.5224833;54.3877183
X-APPLE-STRUCTURED-LOCATION;VALUE=URI;X-ADDRESS=421 Arts Campus Mina Zayed Abu Dhabi United Arab Emirates;X-APPLE-RADIUS=500;X-TITLE=Mina Zayed:geo:54.3877183,24.5224833
END:VEVENT
BEGIN:VEVENT
DTSTART;TZID=Asia/Dubai:20250504T190000
DTEND;TZID=Asia/Dubai:20250504T210000
DTSTAMP:20260425T224143
CREATED:20250501T095216Z
LAST-MODIFIED:20250501T095344Z
UID:10012005-1746385200-1746392400@magpie.ae
SUMMARY:SFP Montage: day two
DESCRIPTION:SFP Montage is a series of special projects and initiatives linked to Sharjah Arts Foundation’s annual Sharjah Film Platform (SFP) festival that forges new associations among the works and expands their reach beyond Sharjah. This evening’s films: \nUpshot dir Maha Haj (2024\, 34 min: still above)  \nAfter suffering unimaginable loss\, Suleiman and Lubna retreat to an isolated farm; there they tend to their crops and engage in impassioned debates about their five children’s life choices. One day\, a stranger arrives to reveal a harrowing truth from their past … Arabic with English subtitles \nCu Li Không Bao Giờ Khóc (Cu Li Never Cries) dir Phạm Ngọc Lân (2024\, 92 min) \nAfter collecting the ashes of her estranged husband from Germany\, Mrs Nguyen travels back to Hanoi with Cu Li\, his pet pygmy slow loris. On her return\, she finds her pregnant niece rushing into marriage and fears the young woman is making the same mistakes that she did … The film weaves together the present with the complexities of Vietnamese history by interspersing the old woman’s longing for the past with the couple’s uncertain future. Vietnamese with Arabic and English subtitles
URL:https://magpie.ae/event/sfp-montage-day-two/
LOCATION:The Arts Center @ NYUAD\, NYUAD Campus\, Saadiyat Island\, Abu Dhabi\, United Arab Emirates
CATEGORIES:Film
ATTACH;FMTTYPE=image/webp:https://magpie.ae/wp-content/uploads/2025/05/Upshot-2024.webp
GEO:24.5238948;54.4345558
X-APPLE-STRUCTURED-LOCATION;VALUE=URI;X-ADDRESS=The Arts Center @ NYUAD NYUAD Campus Saadiyat Island Abu Dhabi United Arab Emirates;X-APPLE-RADIUS=500;X-TITLE=NYUAD Campus\, Saadiyat Island:geo:54.4345558,24.5238948
END:VEVENT
END:VCALENDAR