BEGIN:VCALENDAR
VERSION:2.0
PRODID:-//magpie - ECPv6.15.20//NONSGML v1.0//EN
CALSCALE:GREGORIAN
METHOD:PUBLISH
X-WR-CALNAME:magpie
X-ORIGINAL-URL:https://magpie.ae
X-WR-CALDESC:Events for magpie
REFRESH-INTERVAL;VALUE=DURATION:PT1H
X-Robots-Tag:noindex
X-PUBLISHED-TTL:PT1H
BEGIN:VTIMEZONE
TZID:Asia/Dubai
BEGIN:STANDARD
TZOFFSETFROM:+0400
TZOFFSETTO:+0400
TZNAME:+04
DTSTART:20240101T000000
END:STANDARD
END:VTIMEZONE
BEGIN:VEVENT
DTSTART;VALUE=DATE:20250426
DTEND;VALUE=DATE:20250506
DTSTAMP:20260426T013909
CREATED:20250422T164831Z
LAST-MODIFIED:20250423T073310Z
UID:10011958-1745625600-1746489599@magpie.ae
SUMMARY:Abu Dhabi International Book Fair
DESCRIPTION:This year’s ADIBF – remarkably\, it’s the 34th edition – has the theme ‘Knowledge Illuminates our Community’\, a sentiment which brooks no argument. There are 90 participating countries\, the ‘Focus Personality’ is Avicenna (Ibn Sina)\, the ‘Book of the World’ is One Thousand and One Nights\, and the guest of honour\, usually a single nation\, is Culture of the Caribbean Basin. \nLast year there were more than 230\,000 visitors\, 1\,350 exhibitors\, and reportedly in excess of 1.5 million books sold. All those numbers should be beaten this time around; ADIBF is a genuine force in the booming regional publishing field\, and some clever extras – like a much-expanded ‘Podcast from Abu Dhabi‘ programme\, the Sheikh Zayed Book Award ceremony\, and a famously busy schedule of something like 2\,000 lectures\, panel discussions\, specialised workshops and other activities – make it a good bet for the reader as well as the publishing professional. \nThe book fair has been extended to ten days this year; it runs 9am to 10pm from 26 April to 5 May. Admission is free\, but you’ll need to pre-register.
URL:https://magpie.ae/event/abu-dhabi-international-book-fair-3/
LOCATION:ADNEC\, Abu Dhabi\, United Arab Emirates
CATEGORIES:Book Fair
END:VEVENT
BEGIN:VEVENT
DTSTART;VALUE=DATE:20250501
DTEND;VALUE=DATE:20250505
DTSTAMP:20260426T013909
CREATED:20250414T163321Z
LAST-MODIFIED:20250414T163321Z
UID:10011928-1746057600-1746403199@magpie.ae
SUMMARY:Sharjah Animation Conference
DESCRIPTION:SAC returns for its third annual edition\, again organised in collaboration with Italy’s Bergamo Animation Days (BAD)\, with an extensive (indeed\, impressive) programme of trends\, cutting-edge technologies\, and game-changing opportunities\, This year there’s a substantial Japanese influence – Studio Ghibli notables\, anime in many of the sessions\, an afternoon of cosplay … \nOverall\, it’s a chance for enthusiasts\, current and would-be professionals and industry folk to mingle with some of the world’s best animators – more than 70 of them\, say the organisers\, with the full list here. Headliners include Masayuki Miyaji and Tamiya Terashima\, both associated with Studio Ghibli; Tom Bancroft of Pencilish Animation Studios\, known for his work on Disney classics like Mulan and Aladdin; and the celebrated character designer Sandro Cleuzo\, known for Anastasia\, Tarzan\, and Chip’n Dale (his workshop predictably sold out early\, sadly\, and so has Bancroft’s). \nKhoula Al Mujaini\, Executive Director of SAC\, described animation as “a universal language that transcends borders\, cultures\, and generations … Through SAC\, we aim to celebrate this remarkable art form\, inspire new generations of creatives\, and provide a space where industry leaders can connect\, collaborate\, and push the boundaries of animated storytelling”. \nMost of the artist led workshops are hands-on and/or quite technical\, which justifies the extra costs applied to them. But the standard AED 139 four-pass does give you access to 30+ talks\, panel discussions and roundtables; lots of activations (which usually means people trying to sell you stuff\, but in entertaining fashion); and three live music gigs\, include one “live anime concert”. There’s also a “shared creative space to draw and collaborate”. And of course there will be many screenings.
URL:https://magpie.ae/event/sharjah-animation-conference-2/
LOCATION:Expo Centre Sharjah\, Sharjah
CATEGORIES:Animation,Conference
END:VEVENT
BEGIN:VEVENT
DTSTART;TZID=Asia/Dubai:20250502T193000
DTEND;TZID=Asia/Dubai:20250502T210000
DTSTAMP:20260426T013909
CREATED:20250415T141808Z
LAST-MODIFIED:20250415T141808Z
UID:10011940-1746214200-1746219600@magpie.ae
SUMMARY:Sunday Morning
DESCRIPTION:Successful 40s-ish photographer Mat (James Cuningham) takes us on a heart-warming\, epiphanic journey in this one-man show\, written by Nick Warren and directed by Jenine Collocott. On learning that his girlfriend is pregnant\, a stunned Mat goes for a jog in his neighbourhood to do some thinking. Straying from his regular route he ventures into an unknown and rundown section of the city where he makes a gruesome discovery that changes everything … This fast-paced show is infused with the kind of wit\, acute observation\, real suspense\, imminent danger\, selfish need\, and poignant humanity that are the basic elements of urban life in contemporary South Africa\, where it’s a multiple award winner.
URL:https://magpie.ae/event/sunday-morning-2/
LOCATION:The Junction\, Unit H72\, Alserkal Avenue\, Dubai\, United Arab Emirates
CATEGORIES:Theatre
GEO:25.1431157;55.2246127
X-APPLE-STRUCTURED-LOCATION;VALUE=URI;X-ADDRESS=The Junction Unit H72 Alserkal Avenue Dubai United Arab Emirates;X-APPLE-RADIUS=500;X-TITLE=Unit H72\, Alserkal Avenue:geo:55.2246127,25.1431157
END:VEVENT
BEGIN:VEVENT
DTSTART;TZID=Asia/Dubai:20250502T200000
DTEND;TZID=Asia/Dubai:20250502T220000
DTSTAMP:20260426T013909
CREATED:20250424T125130Z
LAST-MODIFIED:20250424T125130Z
UID:10011964-1746216000-1746223200@magpie.ae
SUMMARY:Khaleeji Jazz
DESCRIPTION:A slightly belated World Jazz Day celebration in the form of a concert by Grammy Award-winning Egyptian oriental jazz pioneer Fathy Salama with a world premiere of his latest work. He will be joined by the noted bassist André Segone and distinguished Norwegian saxophonist Trygve Seim plus a team of drummers from the UAE \n  \n  \n  \n  \n  \n  \n  \n  \n  \n  \n  \n  \n  \n  \n  \n  \n  \nAuditorium\, ground floor\nFind us on the map
URL:https://magpie.ae/event/khaleeji-jazz/
LOCATION:Cultural Foundation\, Sheikh Rashid bin Saeed Al Maktoum Street\, Abu Dhabi
CATEGORIES:Concert,Jazz
ATTACH;FMTTYPE=image/webp:https://magpie.ae/wp-content/uploads/2025/04/fathy.webp
GEO:24.4856096;54.357172
X-APPLE-STRUCTURED-LOCATION;VALUE=URI;X-ADDRESS=Cultural Foundation Sheikh Rashid bin Saeed Al Maktoum Street Abu Dhabi;X-APPLE-RADIUS=500;X-TITLE=Sheikh Rashid bin Saeed Al Maktoum Street:geo:54.357172,24.4856096
END:VEVENT
END:VCALENDAR