BEGIN:VCALENDAR
VERSION:2.0
PRODID:-//magpie - ECPv6.15.20//NONSGML v1.0//EN
CALSCALE:GREGORIAN
METHOD:PUBLISH
X-WR-CALNAME:magpie
X-ORIGINAL-URL:https://magpie.ae
X-WR-CALDESC:Events for magpie
REFRESH-INTERVAL;VALUE=DURATION:PT1H
X-Robots-Tag:noindex
X-PUBLISHED-TTL:PT1H
BEGIN:VTIMEZONE
TZID:Asia/Dubai
BEGIN:STANDARD
TZOFFSETFROM:+0400
TZOFFSETTO:+0400
TZNAME:+04
DTSTART:20240101T000000
END:STANDARD
END:VTIMEZONE
BEGIN:VEVENT
DTSTART;VALUE=DATE:20250426
DTEND;VALUE=DATE:20250506
DTSTAMP:20260426T043912
CREATED:20250422T164831Z
LAST-MODIFIED:20250423T073310Z
UID:10011958-1745625600-1746489599@magpie.ae
SUMMARY:Abu Dhabi International Book Fair
DESCRIPTION:This year’s ADIBF – remarkably\, it’s the 34th edition – has the theme ‘Knowledge Illuminates our Community’\, a sentiment which brooks no argument. There are 90 participating countries\, the ‘Focus Personality’ is Avicenna (Ibn Sina)\, the ‘Book of the World’ is One Thousand and One Nights\, and the guest of honour\, usually a single nation\, is Culture of the Caribbean Basin. \nLast year there were more than 230\,000 visitors\, 1\,350 exhibitors\, and reportedly in excess of 1.5 million books sold. All those numbers should be beaten this time around; ADIBF is a genuine force in the booming regional publishing field\, and some clever extras – like a much-expanded ‘Podcast from Abu Dhabi‘ programme\, the Sheikh Zayed Book Award ceremony\, and a famously busy schedule of something like 2\,000 lectures\, panel discussions\, specialised workshops and other activities – make it a good bet for the reader as well as the publishing professional. \nThe book fair has been extended to ten days this year; it runs 9am to 10pm from 26 April to 5 May. Admission is free\, but you’ll need to pre-register.
URL:https://magpie.ae/event/abu-dhabi-international-book-fair-3/
LOCATION:ADNEC\, Abu Dhabi\, United Arab Emirates
CATEGORIES:Book Fair
END:VEVENT
BEGIN:VEVENT
DTSTART;TZID=Asia/Dubai:20250430T133000
DTEND;TZID=Asia/Dubai:20250430T143000
DTSTAMP:20260426T043912
CREATED:20250428T073548Z
LAST-MODIFIED:20250428T080957Z
UID:10011971-1746019800-1746023400@magpie.ae
SUMMARY:Gustave Caillebotte: The Unknown Impressionist
DESCRIPTION:Stéphanie Chardeau-Botteri\, art historian\, great-grandniece of the artist\, and author of a study of Caillebotte of the same name as the talk (it was shortlisted for the 2024 Goncourt Prize for biographies) discusses the life and legacy of the “unknown Impressionist” – celebrated in his time\, gradually relegated to the back rooms of art history\, now undergoing a renaissance in popularity and reappraisal of his legacy.
URL:https://magpie.ae/event/gustave-caillebotte-the-unknown-impressionist/
LOCATION:Bassam Freiha Art Foundation\, Cultural District Saadiyat Island\, Abu Dhabi
CATEGORIES:Art,Talk
ATTACH;FMTTYPE=image/webp:https://magpie.ae/wp-content/uploads/2025/04/Paris-Street-Rainy-Day-Gustave-Caillebotte-1877.webp
GEO:24.5335392;54.4095952
X-APPLE-STRUCTURED-LOCATION;VALUE=URI;X-ADDRESS=Bassam Freiha Art Foundation Cultural District Saadiyat Island Abu Dhabi;X-APPLE-RADIUS=500;X-TITLE=Cultural District Saadiyat Island:geo:54.4095952,24.5335392
END:VEVENT
BEGIN:VEVENT
DTSTART;TZID=Asia/Dubai:20250430T170000
DTEND;TZID=Asia/Dubai:20250430T190000
DTSTAMP:20260426T043912
CREATED:20250428T101906Z
LAST-MODIFIED:20250428T101906Z
UID:10011989-1746032400-1746039600@magpie.ae
SUMMARY:Burj Rashid: A Landmark Reimagined Into Art
DESCRIPTION:A talk accompanying the Burj Rashid exhibition that commemorate the 45th anniversary of the tower’s inauguration (and which ends soon). This panel discussion\, moderated by architect Amal Anoohi\, features artist Ahmad AlAttar\, designer and artist Sara Al Khayyal\, and artist and consultant Patricia Millns; they will discuss how they reinterpreted Burj Rashid’s architectural identity through their artistic practices and delve into the role of contemporary art in preserving and reimagining Dubai’s heritage. \nThe Burj Rashid exhibition\, showing at this venue until 2 May\, has works from around 30 artists from the UAE and beyond that offer a range of artistic representations of the tower.
URL:https://magpie.ae/event/burj-rashid-a-landmark-reimagined-into-art/
LOCATION:Al Safa Art & Design Library\, Al Safa Park\, Jumeriah 3\, Dubai
CATEGORIES:Architecture,Talk
ATTACH;FMTTYPE=image/webp:https://magpie.ae/wp-content/uploads/2025/04/burj-rashid.webp
GEO:25.180223;55.2231588
X-APPLE-STRUCTURED-LOCATION;VALUE=URI;X-ADDRESS=Al Safa Art & Design Library Al Safa Park Jumeriah 3 Dubai;X-APPLE-RADIUS=500;X-TITLE=Al Safa Park\, Jumeriah 3:geo:55.2231588,25.180223
END:VEVENT
BEGIN:VEVENT
DTSTART;TZID=Asia/Dubai:20250430T190000
DTEND;TZID=Asia/Dubai:20250430T203000
DTSTAMP:20260426T043912
CREATED:20250415T144039Z
LAST-MODIFIED:20250415T144319Z
UID:10011942-1746039600-1746045000@magpie.ae
SUMMARY:A plein temps: dir Eric Gravel (2021)
DESCRIPTION:Single mother Julie (César award-winning actress Laure Calamy) works a grueling job as a head chambermaid in a five-star Parisian hotel while struggling to raise her two children at the end of a commuter line. A job opportunity arises that could change her life\, but a national transport strike threatens everything … With gripping pacing and a masterful performance by Calamy\, the film captures the emotional and physical toll of modern-day survival in an unequal society .. \nThe film is in French\, with English subtitles. It screens in the NAAS: She Reel series\, which is labelled ‘Women in Society: Stories That Inspire\, Change That Empowers’ and features films that are dedicated to highlighting women’s stories and raising awareness about the realities and roles of women in our lives.
URL:https://magpie.ae/event/a-plein-temps-dir-eric-gravel-2021/
LOCATION:Manarat al Saadiyat\, Abu Dhabi\, United Arab Emirates
CATEGORIES:Film
ATTACH;FMTTYPE=image/webp:https://magpie.ae/wp-content/uploads/2025/04/gravel_a_plein_temps.webp
END:VEVENT
BEGIN:VEVENT
DTSTART;TZID=Asia/Dubai:20250430T200000
DTEND;TZID=Asia/Dubai:20250430T220000
DTSTAMP:20260426T043912
CREATED:20250401T153731Z
LAST-MODIFIED:20250401T153823Z
UID:10011837-1746043200-1746050400@magpie.ae
SUMMARY:Blue Note - Celebrating Jazz Day
DESCRIPTION:An evening to celebrate International Jazz Day and honour 85 years of Blue Note Records with classics from John Coltrane\, Miles Davis\, Herbie Hancock\, and more. The all-star ensemble is led by award-winning bandleader Peter Long and includes Peter Long on alto sax\, Freddie Hendrix on trumpet\, Abraham Burton on tenor sax\, Danny Grissett on piano\, Thomas Bramerie on bass and Sebastian De Krom on drums\, plus vocals by Sara Oschlag.
URL:https://magpie.ae/event/blue-note-celebrating-jazz-day/
LOCATION:Dubai Opera
CATEGORIES:Concert,Jazz
GEO:25.1928528;55.2789648
END:VEVENT
BEGIN:VEVENT
DTSTART;TZID=Asia/Dubai:20250430T200000
DTEND;TZID=Asia/Dubai:20250430T220000
DTSTAMP:20260426T043912
CREATED:20250428T091332Z
LAST-MODIFIED:20250428T091332Z
UID:10011972-1746043200-1746050400@magpie.ae
SUMMARY:Wednesday Night Impro: Maestro
DESCRIPTION:The Courtyard’s most peopular evening of elimination improv. Ten actors converge for a night of scenes\, songs and games based on audience suggestions. After each round you score the players on a scale of 1 to 5\, and the one with the lowest score is knocked out. Eventually only one remains\, to be crowned the Maestro. “Fast-paced\, unpredictable\, and hilarious” says the promo\, and you couldn’t argue with that. As with all Courtyard improv evenings it’s free\, but you need to put your name on the guestlist (via the website); and it’s first-come first-served\, so get there early to grab a seat. \n  \n  \n  \n  \n  \n  \n  \n  \n  \n  \n  \n  \n  \n  \n  \n  \n  \n  \n  \n  \n 
URL:https://magpie.ae/event/wednesday-night-impro-maestro-47/
LOCATION:Courtyard Playhouse\, Street 4B\, Al Quoz 1\, Dubai\, United Arab Emirates
CATEGORIES:Improv
GEO:25.177696;55.2504958
X-APPLE-STRUCTURED-LOCATION;VALUE=URI;X-ADDRESS=Courtyard Playhouse Street 4B Al Quoz 1 Dubai United Arab Emirates;X-APPLE-RADIUS=500;X-TITLE=Street 4B\, Al Quoz 1:geo:55.2504958,25.177696
END:VEVENT
BEGIN:VEVENT
DTSTART;TZID=Asia/Dubai:20250430T200000
DTEND;TZID=Asia/Dubai:20250430T230000
DTSTAMP:20260426T043912
CREATED:20250402T103739Z
LAST-MODIFIED:20250430T112955Z
UID:10011855-1746043200-1746054000@magpie.ae
SUMMARY:International Jazz Day All-Star Global Concert
DESCRIPTION:Presented by DCT Abu Dhabi\, a five-week citywide series of jazz performances\, education programmes and community events in the UNESCO Creative City of Music peaks with the now-traditional All-Star Global Concert. Led by iconic keyboardist Herbie Hancock and hosted by Academy Award-winning actor Jeremy Irons\, the gig brings together an extraordinary lineup of jazz\, blues\, classical\, and hip-hop artists from around the world. Among those set to perform: \nArqam Al Abri (UAE)\nJohn Beasley (USA)\nDee Dee Bridgewater (USA)\nA Bu (China)\nTerri Lyne Carrington (USA)\nJosé James (USA)\nRhani Krija (Morocco)\nJohn McLaughlin (UK)\nHélène Mercier (France/Canada)\nMarcus Miller (USA)\nLinda May Han Oh (Australia)\nJohn Pizzarelli (USA)\nDianne Reeves (USA)\nArturo Sandoval (USA)\nNaseer Shamma (Iraq)\nDanilo Pérez (Panama)\nVarijashree Venugopal (India) \n… and more artists will be announced in the coming weeks. The concert will be streamed live via UNTV\, UNESCO\, jazzday.com\, Facebook\, YouTube and other international media partners.
URL:https://magpie.ae/event/international-jazz-day-all-star-global-concert/
LOCATION:Etihad Arena\, Yas Island\, Abu Dhabi
CATEGORIES:Concert,Jazz
ATTACH;FMTTYPE=image/webp:https://magpie.ae/wp-content/uploads/2025/04/jazz-day.webp
GEO:24.4958385;54.6040121
X-APPLE-STRUCTURED-LOCATION;VALUE=URI;X-ADDRESS=Etihad Arena Yas Island Abu Dhabi;X-APPLE-RADIUS=500;X-TITLE=Yas Island:geo:54.6040121,24.4958385
END:VEVENT
END:VCALENDAR