BEGIN:VCALENDAR
VERSION:2.0
PRODID:-//magpie - ECPv6.15.20//NONSGML v1.0//EN
CALSCALE:GREGORIAN
METHOD:PUBLISH
X-WR-CALNAME:magpie
X-ORIGINAL-URL:https://magpie.ae
X-WR-CALDESC:Events for magpie
REFRESH-INTERVAL;VALUE=DURATION:PT1H
X-Robots-Tag:noindex
X-PUBLISHED-TTL:PT1H
BEGIN:VTIMEZONE
TZID:Asia/Dubai
BEGIN:STANDARD
TZOFFSETFROM:+0400
TZOFFSETTO:+0400
TZNAME:+04
DTSTART:20230101T000000
END:STANDARD
END:VTIMEZONE
BEGIN:VEVENT
DTSTART;VALUE=DATE:20240714
DTEND;VALUE=DATE:20240715
DTSTAMP:20260424T163304
CREATED:20240527T132904Z
LAST-MODIFIED:20240527T134058Z
UID:10009530-1720915200-1721001599@magpie.ae
SUMMARY:LAST CHANCE Kusay Bader: What Have You Done
DESCRIPTION:Solo exhibition that offers “a unique perspective on the beauty of nature and the urgent need for environmental stewardship”.
URL:https://magpie.ae/event/last-chance-kusay-bader-what-have-you-done/
LOCATION:Artbooth Gallery\, Centro Capital Center\, Al Khaleej Al Arabi Street\, Abu Dhabi
CATEGORIES:Art,Exhibition
GEO:24.4176064;54.4408235
X-APPLE-STRUCTURED-LOCATION;VALUE=URI;X-ADDRESS=Artbooth Gallery Centro Capital Center Al Khaleej Al Arabi Street Abu Dhabi;X-APPLE-RADIUS=500;X-TITLE=Centro Capital Center\, Al Khaleej Al Arabi Street:geo:54.4408235,24.4176064
END:VEVENT
BEGIN:VEVENT
DTSTART;VALUE=DATE:20240714
DTEND;VALUE=DATE:20240715
DTSTAMP:20260424T163304
CREATED:20240605T102600Z
LAST-MODIFIED:20240605T102600Z
UID:10009560-1720915200-1721001599@magpie.ae
SUMMARY:LAST CHANCE Surreal: Magical realism in animation & contemporary art of the Soviet & post Soviet space
DESCRIPTION:An exhibition of Soviet animation film by Priit Parn\, Fyodor Khitruk\, Andrey Khrzhanovsky\, Yuri Norshtein\, and Robert Sahakyants; and post-soviet video art\, paintings\, installations\, objects and works on paper by Blue Noses\, Diana Kapizova\, Nikolay Koshelev\, Alina Kugush\, Katerina Lukina\, Kirill Makarov\, Kirill Mikhailin\, Slava Nesterov\, and Diana Shliman.
URL:https://magpie.ae/event/last-chance-surreal-magical-realism-in-animation-contemporary-art-of-the-soviet-post-soviet-space/
LOCATION:Bayt AlMamzar\, House 2\, 26 Street\, Al Mamzar\, Dubai
CATEGORIES:Art,Exhibition
GEO:25.2959701;55.3419302
X-APPLE-STRUCTURED-LOCATION;VALUE=URI;X-ADDRESS=Bayt AlMamzar House 2 26 Street Al Mamzar Dubai;X-APPLE-RADIUS=500;X-TITLE=House 2\, 26 Street\, Al Mamzar:geo:55.3419302,25.2959701
END:VEVENT
BEGIN:VEVENT
DTSTART;TZID=Asia/Dubai:20240714T190000
DTEND;TZID=Asia/Dubai:20240714T200000
DTSTAMP:20260424T163304
CREATED:20240709T093029Z
LAST-MODIFIED:20240709T093029Z
UID:10010386-1720983600-1720987200@magpie.ae
SUMMARY:Bastille Day Concert 360° by Sebastien Agius
DESCRIPTION:French classics by Édith Piaf\, Charles Aznavour\, Joe Dassin and other legends\, delivered by “X Factor superstar” Sébastien Agius with ToDA’s 360° visuals.
URL:https://magpie.ae/event/bastille-day-concert-360-by-sebastien-agius/
LOCATION:Theatre of Digital Arts\, Souk Madinat Jumeriah\, Dubai
CATEGORIES:Jazz
ATTACH;FMTTYPE=image/jpeg:https://magpie.ae/wp-content/uploads/2024/07/Sebastien-Agius.jpg
GEO:25.1331644;55.1862234
X-APPLE-STRUCTURED-LOCATION;VALUE=URI;X-ADDRESS=Theatre of Digital Arts Souk Madinat Jumeriah Dubai;X-APPLE-RADIUS=500;X-TITLE=Souk Madinat Jumeriah:geo:55.1862234,25.1331644
END:VEVENT
BEGIN:VEVENT
DTSTART;TZID=Asia/Dubai:20240714T190000
DTEND;TZID=Asia/Dubai:20240714T220000
DTSTAMP:20260424T163304
CREATED:20240710T123328Z
LAST-MODIFIED:20240710T124032Z
UID:10009538-1720983600-1720994400@magpie.ae
SUMMARY:Comedy at Melrose
DESCRIPTION:Dubomedy’s occasional Sunday evening gig featuring a mash-up of stand-up and improv (“a killer line-up ready for you” and “you never know who will pop in”). It’s free\, though you do have to pre-register to get on the list.
URL:https://magpie.ae/event/comedy-at-melrose-3/
LOCATION:Melrose\, Paramount Midtown\, Al Mustaqbal Street\, Dubai
CATEGORIES:Comedy
GEO:25.1934471;55.2654437
X-APPLE-STRUCTURED-LOCATION;VALUE=URI;X-ADDRESS=Melrose Paramount Midtown Al Mustaqbal Street Dubai;X-APPLE-RADIUS=500;X-TITLE=Paramount Midtown\, Al Mustaqbal Street:geo:55.2654437,25.1934471
END:VEVENT
END:VCALENDAR