BEGIN:VCALENDAR
VERSION:2.0
PRODID:-//magpie - ECPv6.15.20//NONSGML v1.0//EN
CALSCALE:GREGORIAN
METHOD:PUBLISH
X-WR-CALNAME:magpie
X-ORIGINAL-URL:https://magpie.ae
X-WR-CALDESC:Events for magpie
REFRESH-INTERVAL;VALUE=DURATION:PT1H
X-Robots-Tag:noindex
X-PUBLISHED-TTL:PT1H
BEGIN:VTIMEZONE
TZID:Asia/Dubai
BEGIN:STANDARD
TZOFFSETFROM:+0400
TZOFFSETTO:+0400
TZNAME:+04
DTSTART:20230101T000000
END:STANDARD
END:VTIMEZONE
BEGIN:VEVENT
DTSTART;VALUE=DATE:20240712
DTEND;VALUE=DATE:20240713
DTSTAMP:20260422T003356
CREATED:20240612T084848Z
LAST-MODIFIED:20240612T084848Z
UID:10009576-1720742400-1720828799@magpie.ae
SUMMARY:LAST CHANCE An Hoang: Between Days
DESCRIPTION:Solo exhibition for An Hoang\, her debut show in the Middle East. In these new paintings\, Hoang explores a delicate balance between abstraction and figuration through “expressive\, colourful compositions that capture moments of immersion in nature … With the use of a bright and uplifting palette\, her paintings radiate joy and a sense of hope and possibility”. (Volery is open by appointment only.)
URL:https://magpie.ae/event/last-chance-an-hoang-between-days/
LOCATION:Volery Gallery\, Maze Tower - 5201\, Dubai International Financial Center\, Dubai
CATEGORIES:Art,Exhibition
GEO:25.20884;55.2770323
X-APPLE-STRUCTURED-LOCATION;VALUE=URI;X-ADDRESS=Volery Gallery Maze Tower - 5201 Dubai International Financial Center Dubai;X-APPLE-RADIUS=500;X-TITLE=Maze Tower - 5201\, Dubai International Financial Center:geo:55.2770323,25.20884
END:VEVENT
BEGIN:VEVENT
DTSTART;TZID=Asia/Dubai:20240712T170000
DTEND;TZID=Asia/Dubai:20240712T210000
DTSTAMP:20260422T003356
CREATED:20240702T133308Z
LAST-MODIFIED:20240702T133308Z
UID:10010364-1720803600-1720818000@magpie.ae
SUMMARY:Project22: The Code
DESCRIPTION:A one-evening-only popup exhibition celebrating the second anniversary of the eponymous digital art project Project22\, featuring work by two dozen generative artists including Sasha Stiles\, Seohyo\, and Nice Aunties. There will also be an AV performance by Digital Moss\, an artist known for captivating and immersive digital performances.
URL:https://magpie.ae/event/project22-the-code/
LOCATION:kanvas Dubai\, Unit 1\, Al Khayat Art Avenue\, 19th Street Al Quoz 1\, Dubai
CATEGORIES:Art,Exhibition
GEO:25.1399294;55.2285748
X-APPLE-STRUCTURED-LOCATION;VALUE=URI;X-ADDRESS=kanvas Dubai Unit 1 Al Khayat Art Avenue 19th Street Al Quoz 1 Dubai;X-APPLE-RADIUS=500;X-TITLE=Unit 1\, Al Khayat Art Avenue\, 19th Street Al Quoz 1:geo:55.2285748,25.1399294
END:VEVENT
END:VCALENDAR