BEGIN:VCALENDAR
VERSION:2.0
PRODID:-//magpie - ECPv6.15.20//NONSGML v1.0//EN
CALSCALE:GREGORIAN
METHOD:PUBLISH
X-WR-CALNAME:magpie
X-ORIGINAL-URL:https://magpie.ae
X-WR-CALDESC:Events for magpie
REFRESH-INTERVAL;VALUE=DURATION:PT1H
X-Robots-Tag:noindex
X-PUBLISHED-TTL:PT1H
BEGIN:VTIMEZONE
TZID:Asia/Dubai
BEGIN:STANDARD
TZOFFSETFROM:+0400
TZOFFSETTO:+0400
TZNAME:+04
DTSTART:20230101T000000
END:STANDARD
END:VTIMEZONE
BEGIN:VEVENT
DTSTART;TZID=Asia/Dubai:20240711T193000
DTEND;TZID=Asia/Dubai:20240711T211500
DTSTAMP:20260419T163437
CREATED:20240703T074050Z
LAST-MODIFIED:20240703T074050Z
UID:10010367-1720726200-1720732500@magpie.ae
SUMMARY:High and Low: dir Akira Kurosawa (1963)
DESCRIPTION:Classic Kurosawa\, a gripping police thriller (based on an Ed McBain story) starring the ineffable Toshiro Mifune. Kidnapping goes wrong\, moral dilemmas ensue\, and Kurosawa uses the film noir to anatomise the inequalities in modern Japanese society. “Kurosawa’s virtuoso direction provides no easy answers\,” as the blurb puts it\, “and in short\, intense sequences he portrays the businessman\, the police and the criminal as equally brutal but nonetheless human.” In Japanese with English subtitles.
URL:https://magpie.ae/event/high-and-low-dir-akira-kurosawa-1963/
LOCATION:Manarat al Saadiyat\, Abu Dhabi\, United Arab Emirates
CATEGORIES:Film
ATTACH;FMTTYPE=image/jpeg:https://magpie.ae/wp-content/uploads/2024/07/High-and-Low-1963-1-1.jpg
END:VEVENT
BEGIN:VEVENT
DTSTART;TZID=Asia/Dubai:20240711T200000
DTEND;TZID=Asia/Dubai:20240711T223000
DTSTAMP:20260419T163437
CREATED:20240702T102245Z
LAST-MODIFIED:20240702T102245Z
UID:10010362-1720728000-1720737000@magpie.ae
SUMMARY:Funny Thursday
DESCRIPTION:A comedykix standup gig promising “Dubai’s top comedians” in “an unforgettable comedy show”. The door price is redeemable on F&B.
URL:https://magpie.ae/event/funny-thursday/
LOCATION:Reform Social & Grill\, Dubai\, United Arab Emirates
CATEGORIES:Comedy
GEO:25.0792423;55.1693191
END:VEVENT
END:VCALENDAR