BEGIN:VCALENDAR
VERSION:2.0
PRODID:-//magpie - ECPv6.15.20//NONSGML v1.0//EN
CALSCALE:GREGORIAN
METHOD:PUBLISH
X-ORIGINAL-URL:https://magpie.ae
X-WR-CALDESC:Events for magpie
REFRESH-INTERVAL;VALUE=DURATION:PT1H
X-Robots-Tag:noindex
X-PUBLISHED-TTL:PT1H
BEGIN:VTIMEZONE
TZID:Asia/Dubai
BEGIN:STANDARD
TZOFFSETFROM:+0400
TZOFFSETTO:+0400
TZNAME:+04
DTSTART:20230101T000000
END:STANDARD
END:VTIMEZONE
BEGIN:VEVENT
DTSTART;TZID=Asia/Dubai:20240705T200000
DTEND;TZID=Asia/Dubai:20240705T213000
DTSTAMP:20260422T055823
CREATED:20240611T143134Z
LAST-MODIFIED:20240611T143134Z
UID:10009574-1720209600-1720215000@magpie.ae
SUMMARY:ST-Duo
DESCRIPTION:ST-Duo are pianists Sofia Sakhnova and Antonina Luzko\, multiple prizewinners in Russia and recipients of a special prize from Yamaha for Best Piano Duet at the 2018 Roma International Piano Competition. They will be playing an entertaining-looking programme\, mostly arrangements for two pianos that include classical crowd-pleasers and contemporary compositions; and for some of the pieces they will be accompanied by an Argentinian tango couple (and it’s not just for the Piazzolla). \nThe programme: \nBrahms Hungarian Dances No1\, No4\, No5\nSaint-Saëns Danse Macabre (transcribed for one piano)\nBizet “Habanera” from Carmen (accompanied by tango dancers)\nBizet “Jose” from Carmen\nOffenbach “Barcarolle” The Tales of Hoffmann\nOffenbach “Galop Infernal” from Orpheus in the Underworld\nGardel “Por una cabeza” (accompanied by tango dancers) \nAlexey Shor & Georgs Pelēcis The Correspondence\nAlexey Shor Addio (aaccompanied by tango dancers)\nAlexey Shor Verdiana\nPiazzolla “Adios Nonino” (accompanied by tango dancers) \nThis is the opening performance in SAMIT Event Group’s 2024 Symphonic Middle East Festival.
URL:https://magpie.ae/event/st-duo/
LOCATION:Zabeel Theatre\, Jumeirah Zabeel Saray\, Palm Jumeirah West Crescent\, Dubai
CATEGORIES:Concert
GEO:25.0977637;55.1249239
X-APPLE-STRUCTURED-LOCATION;VALUE=URI;X-ADDRESS=Zabeel Theatre Jumeirah Zabeel Saray Palm Jumeirah West Crescent Dubai;X-APPLE-RADIUS=500;X-TITLE=Jumeirah Zabeel Saray\, Palm Jumeirah West Crescent:geo:55.1249239,25.0977637
END:VEVENT
BEGIN:VEVENT
DTSTART;TZID=Asia/Dubai:20240705T200000
DTEND;TZID=Asia/Dubai:20240705T213000
DTSTAMP:20260422T055823
CREATED:20240702T135935Z
LAST-MODIFIED:20240702T135935Z
UID:10010366-1720209600-1720215000@magpie.ae
SUMMARY:Searching for Pierrot
DESCRIPTION:A one-person play written and performed by Gillian Rhodes\, who is really very good at this storytelling-with-performance sort of thing. This time it’s a coming-of-age tale of a young boy in the late 19th century; a chance encounter with the famous clown Pierrot “sets off a chain of events that leads the boy through the city\, from the freak show to the opera and all the way to the future … He meets a host of colourful and mysterious characters that prompt him to question what it really means to be remarkable\, and what it costs”. Recommended.
URL:https://magpie.ae/event/searching-for-pierrot/
LOCATION:The Junction\, Unit H72\, Alserkal Avenue\, Dubai\, United Arab Emirates
CATEGORIES:Theatre
GEO:25.1431157;55.2246127
X-APPLE-STRUCTURED-LOCATION;VALUE=URI;X-ADDRESS=The Junction Unit H72 Alserkal Avenue Dubai United Arab Emirates;X-APPLE-RADIUS=500;X-TITLE=Unit H72\, Alserkal Avenue:geo:55.2246127,25.1431157
END:VEVENT
BEGIN:VEVENT
DTSTART;TZID=Asia/Dubai:20240705T203000
DTEND;TZID=Asia/Dubai:20240705T223000
DTSTAMP:20260422T055823
CREATED:20240702T101855Z
LAST-MODIFIED:20240702T101855Z
UID:10010361-1720211400-1720218600@magpie.ae
SUMMARY:Friday Unfiltered Comedy
DESCRIPTION:A comedykix standup gig\, as usual promising “Dubai’s finest comedians”. The door price is redeemable on F&B.
URL:https://magpie.ae/event/friday-unfiltered-comedy/
LOCATION:Funny Cat\, Dubai\, United Arab Emirates
CATEGORIES:Comedy
GEO:25.1880914;55.2813209
END:VEVENT
END:VCALENDAR