BEGIN:VCALENDAR
VERSION:2.0
PRODID:-//magpie - ECPv6.15.20//NONSGML v1.0//EN
CALSCALE:GREGORIAN
METHOD:PUBLISH
X-ORIGINAL-URL:https://magpie.ae
X-WR-CALDESC:Events for magpie
REFRESH-INTERVAL;VALUE=DURATION:PT1H
X-Robots-Tag:noindex
X-PUBLISHED-TTL:PT1H
BEGIN:VTIMEZONE
TZID:Asia/Dubai
BEGIN:STANDARD
TZOFFSETFROM:+0400
TZOFFSETTO:+0400
TZNAME:+04
DTSTART:20230101T000000
END:STANDARD
END:VTIMEZONE
BEGIN:VEVENT
DTSTART;TZID=Asia/Dubai:20240626T200000
DTEND;TZID=Asia/Dubai:20240626T220000
DTSTAMP:20260420T060447
CREATED:20240206T115250Z
LAST-MODIFIED:20240206T115250Z
UID:10007555-1719432000-1719439200@magpie.ae
SUMMARY:Wednesday Night Impro: Maestro
DESCRIPTION:Ten actors converge for a night of scenes\, songs and games based on audience suggestions. After each round you score the players on a scale of 1 to 5\, and the one with the lowest score is eliminated. Eventually only one remains\, to be crowned the Maestro. “Fast-paced\, unpredictable\, and hilarious” says the promo\, and you couldn’t argue with that. As with all Courtyard improv evenings it’s free\, but you need to put your name on the guestlist (via the website); and it’s first-come first-served\, so get there early enough to grab a seat. \n  \n  \n  \n  \n  \n  \n  \n  \n  \n  \n  \n  \n  \n  \n  \n  \n  \n  \n  \n  \n 
URL:https://magpie.ae/event/wednesday-night-impro-maestro-32/
LOCATION:Courtyard Playhouse\, Street 4B\, Al Quoz 1\, Dubai\, United Arab Emirates
CATEGORIES:Improv
GEO:25.177696;55.2504958
X-APPLE-STRUCTURED-LOCATION;VALUE=URI;X-ADDRESS=Courtyard Playhouse Street 4B Al Quoz 1 Dubai United Arab Emirates;X-APPLE-RADIUS=500;X-TITLE=Street 4B\, Al Quoz 1:geo:55.2504958,25.177696
END:VEVENT
BEGIN:VEVENT
DTSTART;TZID=Asia/Dubai:20240626T200000
DTEND;TZID=Asia/Dubai:20240626T220000
DTSTAMP:20260420T060447
CREATED:20240826T142212Z
LAST-MODIFIED:20240826T142212Z
UID:10010514-1719432000-1719439200@magpie.ae
SUMMARY:Wednesday Night Impro: Maestro
DESCRIPTION:A new season opens for the Courtyard’s regular Wednesday evening of scenes\, songs and games based on audience suggestions. After each round you score the ten players on a scale of 1 to 5\, and the one with the lowest score is eliminated. Eventually only one remains\, to be crowned the Maestro. “Fast-paced\, unpredictable\, and hilarious” says the promo\, and you couldn’t argue with that. As with all Courtyard improv evenings it’s free\, but you need to put your name on the guestlist (via the website); and it’s first-come first-served\, so get there early to grab a seat. \n  \n  \n  \n  \n  \n  \n  \n  \n  \n  \n  \n  \n  \n  \n  \n  \n  \n  \n  \n  \n 
URL:https://magpie.ae/event/wednesday-night-impro-maestro-33/
LOCATION:Courtyard Playhouse\, Street 4B\, Al Quoz 1\, Dubai\, United Arab Emirates
CATEGORIES:Improv
GEO:25.177696;55.2504958
X-APPLE-STRUCTURED-LOCATION;VALUE=URI;X-ADDRESS=Courtyard Playhouse Street 4B Al Quoz 1 Dubai United Arab Emirates;X-APPLE-RADIUS=500;X-TITLE=Street 4B\, Al Quoz 1:geo:55.2504958,25.177696
END:VEVENT
END:VCALENDAR