BEGIN:VCALENDAR
VERSION:2.0
PRODID:-//magpie - ECPv6.15.20//NONSGML v1.0//EN
CALSCALE:GREGORIAN
METHOD:PUBLISH
X-ORIGINAL-URL:https://magpie.ae
X-WR-CALDESC:Events for magpie
REFRESH-INTERVAL;VALUE=DURATION:PT1H
X-Robots-Tag:noindex
X-PUBLISHED-TTL:PT1H
BEGIN:VTIMEZONE
TZID:Asia/Dubai
BEGIN:STANDARD
TZOFFSETFROM:+0400
TZOFFSETTO:+0400
TZNAME:+04
DTSTART:20230101T000000
END:STANDARD
END:VTIMEZONE
BEGIN:VEVENT
DTSTART;VALUE=DATE:20240624
DTEND;VALUE=DATE:20240625
DTSTAMP:20260420T105900
CREATED:20240409T124856Z
LAST-MODIFIED:20240409T124856Z
UID:10008454-1719187200-1719273599@magpie.ae
SUMMARY:LAST CHANCE Echoes of Infinite: Poetry’s Visual Symphony
DESCRIPTION:The Farjam Foundation isn’t a particularly activity gallery\, but it does have access to an excellent private collection that spans early Islam to present-day artistic practice across regional geographies and beyond. So when it puts on a show of selected artworks from The Farjam Collection\, it’s worth paying attention. \nThis one offers a contemporary take on classical themes in four paintings by Iranian artist Arash Nazari\, juxtaposed with ten miniature folios of Shahnameh (aka ‘The Book of Kings’\, Ferdowsi’s epic poem of 940-1020 CE) from the 15th to 17th century. \nThe exhibition seeks to magnify the glories of the detailed\, early illustrations portraying mythical stories of heroic tales\, with their rich tapestry of symbols and legendary characters that reflect ancient beliefs and traditions. Nazari himself is a self-taught Iranian artist who is fascinated by the paintings of the Shahnameh. His practice explores the original techniques of Persian Negaargari — a classical style of miniature painting or illustration that often features elaborate scenes in exquisite detail\, reflecting themes of literature\, mythology\, and royalty\, using fine brushwork and intricate color palettes.
URL:https://magpie.ae/event/last-chance-echoes-of-infinite-poetrys-visual-symphony/
LOCATION:Farjam Foundation\, Unit GF-97 Gate Avenue\, DIFC\, Dubai
CATEGORIES:Art,Exhibition
GEO:25.2135121;55.2823895
X-APPLE-STRUCTURED-LOCATION;VALUE=URI;X-ADDRESS=Farjam Foundation Unit GF-97 Gate Avenue DIFC Dubai;X-APPLE-RADIUS=500;X-TITLE=Unit GF-97 Gate Avenue\, DIFC:geo:55.2823895,25.2135121
END:VEVENT
BEGIN:VEVENT
DTSTART;TZID=Asia/Dubai:20240624T200000
DTEND;TZID=Asia/Dubai:20240624T220000
DTSTAMP:20260420T105900
CREATED:20240206T132712Z
LAST-MODIFIED:20240206T132712Z
UID:10007575-1719259200-1719266400@magpie.ae
SUMMARY:Monday Night Comedy: This Is Impro
DESCRIPTION:Exactly what it says: a regular Monday evening of scenes\, stories and narrative improvisation influenced by audience suggestions and featuring the Courtyard Playhouse’s most experienced improv performers plus guests. \nClassic Courtyard stuff. It’s free\, but you need to put your name on the guestlist (via the website) – but it’s first-come first-served\, so get there early enough to grab a seat. \n  \n  \n  \n  \n  \n  \n  \n  \n  \n  \n  \n  \n  \n  \n  \n 
URL:https://magpie.ae/event/monday-night-comedy-this-is-impro-20/
LOCATION:Courtyard Playhouse\, Street 4B\, Al Quoz 1\, Dubai\, United Arab Emirates
CATEGORIES:Improv
GEO:25.177696;55.2504958
X-APPLE-STRUCTURED-LOCATION;VALUE=URI;X-ADDRESS=Courtyard Playhouse Street 4B Al Quoz 1 Dubai United Arab Emirates;X-APPLE-RADIUS=500;X-TITLE=Street 4B\, Al Quoz 1:geo:55.2504958,25.177696
END:VEVENT
END:VCALENDAR