BEGIN:VCALENDAR
VERSION:2.0
PRODID:-//magpie - ECPv6.15.20//NONSGML v1.0//EN
CALSCALE:GREGORIAN
METHOD:PUBLISH
X-ORIGINAL-URL:https://magpie.ae
X-WR-CALDESC:Events for magpie
REFRESH-INTERVAL;VALUE=DURATION:PT1H
X-Robots-Tag:noindex
X-PUBLISHED-TTL:PT1H
BEGIN:VTIMEZONE
TZID:Asia/Dubai
BEGIN:STANDARD
TZOFFSETFROM:+0400
TZOFFSETTO:+0400
TZNAME:+04
DTSTART:20230101T000000
END:STANDARD
END:VTIMEZONE
BEGIN:VEVENT
DTSTART;VALUE=DATE:20240620
DTEND;VALUE=DATE:20240624
DTSTAMP:20260420T105900
CREATED:20231212T134310Z
LAST-MODIFIED:20240611T162552Z
UID:10007353-1718841600-1719187199@magpie.ae
SUMMARY:Matilda The Musical
DESCRIPTION:As the New York Post put it\, “Once in a blue moon\, a show comes out blazing and restores your faith in broadway. Matilda the Musical is that show”. The multi-award-winning musical (it has won more than 99 international awards) inspired by the Roald Dahl book had a successful run in Dubai last September; now it’s coming to Abu Dhabi – “the perfect destination to host the beloved musical”\, according to the CEP of the company responsible for putting it on for four days at Etihad Arena on Yas Island (20-23 June). \nMatilda The Musical is directed by Matthew Warchus. Sets and costumes are by Rob Howell\, with choreography by Peter Darling. All three are also Tony winners\, along with the lighting director Hugh Vanstone. The script by Tony Award-winning playwright Dennis Kelly is excellent\, sticking close enough to the original but making the most of the live-action theatricality of the stage; Tim Minchin’s original songs are terrific\, mixing wit with sing-along choruses. And it’s a Royal Shakespeare Company production\, which is itself an assurance of quality and professionalism. \nTickets starts at a reasonable enough AED 150 for weekday shows\, AED 200 at weekends. Matilda the Musical plays at 7pm on 20 and 21 June\, at 1pm and 6pm on 22 and 23 June. \n  \n 
URL:https://magpie.ae/event/matilda-the-musical/
LOCATION:Dubai Opera
CATEGORIES:Musical
ATTACH;FMTTYPE=image/jpeg:https://magpie.ae/wp-content/uploads/2023/09/Matilda-The-Musical-01-1.jpg
GEO:25.1928528;55.2789648
END:VEVENT
BEGIN:VEVENT
DTSTART;TZID=Asia/Dubai:20240623T193000
DTEND;TZID=Asia/Dubai:20240623T220000
DTSTAMP:20260420T105900
CREATED:20240603T155155Z
LAST-MODIFIED:20240603T155155Z
UID:10009547-1719171000-1719180000@magpie.ae
SUMMARY:The Welkin
DESCRIPTION:Last chance to see this performance of Lucy Kirkwood’s feminist twist on Twelve Angry Men\, with the courtroom made up of bickering\, bantering women who must decide the outcome of a heinous crime in rural Suffolk in 1759. Sally Poppy is sentenced to hang for murder but claims to be pregnant\, which would mean she escapes execution; a jury of 12 matrons are gathered to decide whether she’s telling the truth.
URL:https://magpie.ae/event/the-welkin-3/
LOCATION:The Junction\, Unit H72\, Alserkal Avenue\, Dubai\, United Arab Emirates
CATEGORIES:Theatre
GEO:25.1431157;55.2246127
X-APPLE-STRUCTURED-LOCATION;VALUE=URI;X-ADDRESS=The Junction Unit H72 Alserkal Avenue Dubai United Arab Emirates;X-APPLE-RADIUS=500;X-TITLE=Unit H72\, Alserkal Avenue:geo:55.2246127,25.1431157
END:VEVENT
END:VCALENDAR