BEGIN:VCALENDAR
VERSION:2.0
PRODID:-//magpie - ECPv6.15.20//NONSGML v1.0//EN
CALSCALE:GREGORIAN
METHOD:PUBLISH
X-WR-CALNAME:magpie
X-ORIGINAL-URL:https://magpie.ae
X-WR-CALDESC:Events for magpie
REFRESH-INTERVAL;VALUE=DURATION:PT1H
X-Robots-Tag:noindex
X-PUBLISHED-TTL:PT1H
BEGIN:VTIMEZONE
TZID:Asia/Dubai
BEGIN:STANDARD
TZOFFSETFROM:+0400
TZOFFSETTO:+0400
TZNAME:+04
DTSTART:20230101T000000
END:STANDARD
END:VTIMEZONE
BEGIN:VEVENT
DTSTART;VALUE=DATE:20240407
DTEND;VALUE=DATE:20240527
DTSTAMP:20260421T135531
CREATED:20240326T122608Z
LAST-MODIFIED:20240326T122608Z
UID:10008914-1712448000-1716767999@magpie.ae
SUMMARY:Cirque Du Liban: Fontana
DESCRIPTION:Cirque du Liban comes to Yas with “the first travelling water circus in the Middle East … live entertainment\, breathtaking artistic performances in a tailor-made aqua theatre\, waterfalls cascading\, artists diving and performing mind-blowing Aquatic experience”. The previews look great\, and the watery additions do add to the circus skills on show. Thierry Antonios\, founder and Managing Partner at Cirque Du Liban\, described Fontana as “a perfect blend of creativity and strategic partnership\, enhancing the vibrant cultural tapestry of Abu Dhabi … we are excited to share this extraordinary experience with the audiences of Yas Island”. \nIt all happens in a purpose-built big top circus tent near twofour54. There are shows from 7 April to 26 May.
URL:https://magpie.ae/event/cirque-du-liban-fontana/
LOCATION:Yas Island\, Abu Dhabi
CATEGORIES:Circus
ATTACH;FMTTYPE=image/jpeg:https://magpie.ae/wp-content/uploads/2024/03/DSC_9939.jpg
END:VEVENT
BEGIN:VEVENT
DTSTART;VALUE=DATE:20240422
DTEND;VALUE=DATE:20240423
DTSTAMP:20260421T135531
CREATED:20240221T095045Z
LAST-MODIFIED:20240221T095045Z
UID:10008443-1713744000-1713830399@magpie.ae
SUMMARY:LAST CHANCE Moataz Nasr: Bottle Neck
DESCRIPTION:New and existing 3D work by the Egyptian artist\, whose practice aims to explore the intersection of tradition and globalisation and the impact of political and economic development. The title Bottle Neck reflects “the overload of information that creates a significant blockage in our societies and ultimately affects our lives”. \nThis Galleria Continua exhibition is at the Burj Al Arab\, so unless you’re already staying there you will need an invitation – email dubai@galleriacontinua.com.
URL:https://magpie.ae/event/last-chance-moataz-nasr-bottle-neck/
LOCATION:Burj Al Arab\, Dubai
CATEGORIES:Art,Exhibition
GEO:25.2048493;55.2707828
END:VEVENT
BEGIN:VEVENT
DTSTART;TZID=Asia/Dubai:20240422T193000
DTEND;TZID=Asia/Dubai:20240422T220000
DTSTAMP:20260421T135531
CREATED:20240402T110531Z
LAST-MODIFIED:20240402T110531Z
UID:10008936-1713814200-1713823200@magpie.ae
SUMMARY:Bye Bye Tiberias: dir Lina Soualem (2022)
DESCRIPTION:Thirty years ago\, Hiam Abbass left her native village in Galilee to follow her acting dream in France. Camera in hand\, her daughter Lina questions her mother’s bold choices and the way the women in her family – who she has left behind – have influenced her life. The result is an intimate documentary about four generations of women and their shared legacy of separation. \nThe film\, presented by the NYUAD Film and New Media Program in partnership with The Arts Center\, is followed by a live conversation with Lina Soualem.
URL:https://magpie.ae/event/bye-bye-tiberias-dir-lina-soualem-2022/
LOCATION:The Arts Center @ NYUAD\, NYUAD Campus\, Saadiyat Island\, Abu Dhabi\, United Arab Emirates
CATEGORIES:Film
ATTACH;FMTTYPE=image/png:https://magpie.ae/wp-content/uploads/2024/04/bye-bye-tiberias.png
GEO:24.5238948;54.4345558
X-APPLE-STRUCTURED-LOCATION;VALUE=URI;X-ADDRESS=The Arts Center @ NYUAD NYUAD Campus Saadiyat Island Abu Dhabi United Arab Emirates;X-APPLE-RADIUS=500;X-TITLE=NYUAD Campus\, Saadiyat Island:geo:54.4345558,24.5238948
END:VEVENT
BEGIN:VEVENT
DTSTART;TZID=Asia/Dubai:20240422T200000
DTEND;TZID=Asia/Dubai:20240422T220000
DTSTAMP:20260421T135531
CREATED:20240206T132010Z
LAST-MODIFIED:20240206T132010Z
UID:10007565-1713816000-1713823200@magpie.ae
SUMMARY:Monday Night Comedy: This Is Impro
DESCRIPTION:Exactly what it says: a regular Monday evening of scenes\, stories and narrative improvisation influenced by audience suggestions and featuring the Courtyard Playhouse’s most experienced improv performers plus guests. \nClassic Courtyard stuff. It’s free\, but you need to put your name on the guestlist (via the website) – but it’s first-come first-served\, so get there early enough to grab a seat. \n  \n  \n  \n  \n 
URL:https://magpie.ae/event/monday-night-comedy-this-is-impro/
LOCATION:Courtyard Playhouse\, Street 4B\, Al Quoz 1\, Dubai\, United Arab Emirates
CATEGORIES:Improv
GEO:25.177696;55.2504958
X-APPLE-STRUCTURED-LOCATION;VALUE=URI;X-ADDRESS=Courtyard Playhouse Street 4B Al Quoz 1 Dubai United Arab Emirates;X-APPLE-RADIUS=500;X-TITLE=Street 4B\, Al Quoz 1:geo:55.2504958,25.177696
END:VEVENT
END:VCALENDAR