BEGIN:VCALENDAR
VERSION:2.0
PRODID:-//magpie - ECPv6.15.20//NONSGML v1.0//EN
CALSCALE:GREGORIAN
METHOD:PUBLISH
X-ORIGINAL-URL:https://magpie.ae
X-WR-CALDESC:Events for magpie
REFRESH-INTERVAL;VALUE=DURATION:PT1H
X-Robots-Tag:noindex
X-PUBLISHED-TTL:PT1H
BEGIN:VTIMEZONE
TZID:Asia/Dubai
BEGIN:STANDARD
TZOFFSETFROM:+0400
TZOFFSETTO:+0400
TZNAME:+04
DTSTART:20220101T000000
END:STANDARD
END:VTIMEZONE
BEGIN:VEVENT
DTSTART;TZID=Asia/Dubai:20230819T143518
DTEND;TZID=Asia/Dubai:20230901T220000
DTSTAMP:20260424T180307
CREATED:20230629T135525Z
LAST-MODIFIED:20230819T103518Z
UID:10004664-1692455718-1693605600@magpie.ae
SUMMARY:Bill Burr
DESCRIPTION:The Emmy-nominated US comedian gets a big stage for his quick wit\, dark humour\, and unrivalled storytelling with rants about relationship advice\, sports and the Illuminati …
URL:https://magpie.ae/event/bill-burr/
LOCATION:Etihad Arena\, Yas Island\, Abu Dhabi
CATEGORIES:Comedy
ATTACH;FMTTYPE=image/png:https://magpie.ae/wp-content/uploads/2023/06/bill-burr.png
GEO:24.4958385;54.6040121
X-APPLE-STRUCTURED-LOCATION;VALUE=URI;X-ADDRESS=Etihad Arena Yas Island Abu Dhabi;X-APPLE-RADIUS=500;X-TITLE=Yas Island:geo:54.6040121,24.4958385
END:VEVENT
BEGIN:VEVENT
DTSTART;VALUE=DATE:20230826
DTEND;VALUE=DATE:20230827
DTSTAMP:20260424T180307
CREATED:20230817T175936Z
LAST-MODIFIED:20230817T180036Z
UID:10005093-1693008000-1693094399@magpie.ae
SUMMARY:Deep Blue: Man + Machine
DESCRIPTION:“An immersive showcase that delves into the profound relationship between human creativity and cutting-edge artificial intelligence\,” says the press blurb. “This extraordinary event is set to captivate audiences with a fusion of art\, technology\, and innovation.” \nEffectively it’s a three-hour mini-festival cum showcase of technology as art that also provides a networking opportunity for practitioners\, would-be investors and the techno-curious. At base the MORROW collective has created 360° Digital Art Show with live dancers; it uses ToDA’s stereo sound and vision experience to showcase the possibilities and profound impact of advanced technology and “blur the lines between the virtual and the tangible”. \nThere’s also Metaverse VR Experience “where digital and physical worlds seamlessly merge”\, a curators’ tour with Q&A\, a workshop by MORROW collective on Curating Digital Art\, and a series of NFT drops. Artists featured include Audrey Miller\, Gary Cartlidge\, Glass Crane\, Hipworth\, Jake-Andrew\, Lamia Eda Kula\, Martha Fiennes\, Stanislav Bartnikas\, Tomás Mujica Pérez\, and Zam. \nThe title\, incidentally\, riffs on IBM’s chess-playing supercomputer from the 19080s\, the first to defeat a human. It was the first computer to win a game against a human. As Morrow puts it\, “this exhibition comprises artwork that symbolises the vastness of intelligence between machine and man and what that means for our future … Artworks also explore the emotion of the colour blue\, which commands power and authority and can embody calmness\, stability and strength” \nThere are shows at 10am and 2pm\, repeated on 27 August.
URL:https://magpie.ae/event/deep-blue-man-machine/
LOCATION:Theatre of Digital Arts\, Souk Madinat Jumeriah\, Dubai
CATEGORIES:Art,NFTs
ATTACH;FMTTYPE=image/jpeg:https://magpie.ae/wp-content/uploads/2023/08/LA_06832.jpeg
GEO:25.1331644;55.1862234
X-APPLE-STRUCTURED-LOCATION;VALUE=URI;X-ADDRESS=Theatre of Digital Arts Souk Madinat Jumeriah Dubai;X-APPLE-RADIUS=500;X-TITLE=Souk Madinat Jumeriah:geo:55.1862234,25.1331644
END:VEVENT
BEGIN:VEVENT
DTSTART;TZID=Asia/Dubai:20230826T180000
DTEND;TZID=Asia/Dubai:20230826T210000
DTSTAMP:20260424T180307
CREATED:20230823T150245Z
LAST-MODIFIED:20230823T150445Z
UID:10005098-1693072800-1693083600@magpie.ae
SUMMARY:Summer Palette: An Artist Soiree
DESCRIPTION:Food\, music\, and art as 421’s Artistic Development Program cohort for 2022/2023 – Asma Belhamar\, Mahshid Rafiei and Nasir Nasrallah – present their work and process. \nAsma Belhamar’s practice confronts the visual memory of local landscapes\, and offers insight into their architectural practices. Her solo exhibition is coming this Autumn. \nMahshid Rafiei’s practice explores the tension between image and material inherent in sculpture. Her recent solo exhibition\, Of Mythic Proportions\, ran at 421 from February to May 2023. \nNasir Nasrallah’s multimedia practice bridges different times and places to reframe established concepts of materiality and being. His solo exhibition Poetics of Machine is currently on show at 421.
URL:https://magpie.ae/event/summer-palette-an-artist-soiree/
LOCATION:421 Arts Campus\, Mina Zayed\, Abu Dhabi\, United Arab Emirates
CATEGORIES:Talk
GEO:24.5224833;54.3877183
X-APPLE-STRUCTURED-LOCATION;VALUE=URI;X-ADDRESS=421 Arts Campus Mina Zayed Abu Dhabi United Arab Emirates;X-APPLE-RADIUS=500;X-TITLE=Mina Zayed:geo:54.3877183,24.5224833
END:VEVENT
END:VCALENDAR