BEGIN:VCALENDAR
VERSION:2.0
PRODID:-//magpie - ECPv6.15.20//NONSGML v1.0//EN
CALSCALE:GREGORIAN
METHOD:PUBLISH
X-WR-CALNAME:magpie
X-ORIGINAL-URL:https://magpie.ae
X-WR-CALDESC:Events for magpie
REFRESH-INTERVAL;VALUE=DURATION:PT1H
X-Robots-Tag:noindex
X-PUBLISHED-TTL:PT1H
BEGIN:VTIMEZONE
TZID:Asia/Dubai
BEGIN:STANDARD
TZOFFSETFROM:+0400
TZOFFSETTO:+0400
TZNAME:+04
DTSTART:20220101T000000
END:STANDARD
END:VTIMEZONE
BEGIN:VEVENT
DTSTART;TZID=Asia/Dubai:20230819T143518
DTEND;TZID=Asia/Dubai:20230901T220000
DTSTAMP:20260422T003419
CREATED:20230629T135525Z
LAST-MODIFIED:20230819T103518Z
UID:10004664-1692455718-1693605600@magpie.ae
SUMMARY:Bill Burr
DESCRIPTION:The Emmy-nominated US comedian gets a big stage for his quick wit\, dark humour\, and unrivalled storytelling with rants about relationship advice\, sports and the Illuminati …
URL:https://magpie.ae/event/bill-burr/
LOCATION:Etihad Arena\, Yas Island\, Abu Dhabi
CATEGORIES:Comedy
ATTACH;FMTTYPE=image/png:https://magpie.ae/wp-content/uploads/2023/06/bill-burr.png
GEO:24.4958385;54.6040121
X-APPLE-STRUCTURED-LOCATION;VALUE=URI;X-ADDRESS=Etihad Arena Yas Island Abu Dhabi;X-APPLE-RADIUS=500;X-TITLE=Yas Island:geo:54.6040121,24.4958385
END:VEVENT
BEGIN:VEVENT
DTSTART;VALUE=DATE:20230824
DTEND;VALUE=DATE:20230825
DTSTAMP:20260422T003419
CREATED:20230817T174813Z
LAST-MODIFIED:20230817T174813Z
UID:10005087-1692835200-1692921599@magpie.ae
SUMMARY:Summer Editions 23
DESCRIPTION:A curated exhibition of work from six artists — energetic street and pop art fusion from Mr Brainwash\, capturing iconic cultural moments; Dan Pearce’s innovative mixed-media explosions; intricate hyperrealistic paintings of figures by Craig Alan; textured tales of city life from Yuvi; Doug Hyde’s blazing technicolour narratives of optimism; whimsical animal images from Hayley Goodhead.
URL:https://magpie.ae/event/summer-editions-23/
LOCATION:Mestaria Gallery\, Unit 35\, Alserkal Avenue\, Dubai
CATEGORIES:Art,Exhibition
GEO:25.1431157;55.2246127
X-APPLE-STRUCTURED-LOCATION;VALUE=URI;X-ADDRESS=Mestaria Gallery Unit 35 Alserkal Avenue Dubai;X-APPLE-RADIUS=500;X-TITLE=Unit 35\, Alserkal Avenue:geo:55.2246127,25.1431157
END:VEVENT
BEGIN:VEVENT
DTSTART;TZID=Asia/Dubai:20230824T180000
DTEND;TZID=Asia/Dubai:20230824T193000
DTSTAMP:20260422T003419
CREATED:20240801T095240Z
LAST-MODIFIED:20240801T095954Z
UID:10010414-1692900000-1692905400@magpie.ae
SUMMARY:Candlelight Concert: Vivaldi's Four Seasons
DESCRIPTION:One of the most successful productions in the Candlelight Concerts series of “classical music concerts aimed at democratising access to classical music by allowing people all over the world to enjoy live music candlelit performances”.  The Vivaldi favourite was written as concerti for violin and orchestra\, but it’s often arranged for string quartet and this is what we’ll be getting here – the players are Gulf Strings\, the performance is “illuminated by thousands of candles”.  The programme includes the four movements of the Seasons\, plus Vivaldi’s flamboyant La Follia. Should be a good evening …
URL:https://magpie.ae/event/candlelight-concert-vivaldis-four-seasons-4/
LOCATION:Raffles The Palm\, West Crescent\, Palm Jumeirah\, Dubai\, United Arab Emirates
CATEGORIES:Chamber concert
ATTACH;FMTTYPE=image/png:https://magpie.ae/wp-content/uploads/2022/11/Candlelight-Concerts-Vivaldis-Four-Seasons-1.png
GEO:25.0992805;55.1341777
X-APPLE-STRUCTURED-LOCATION;VALUE=URI;X-ADDRESS=Raffles The Palm West Crescent Palm Jumeirah Dubai United Arab Emirates;X-APPLE-RADIUS=500;X-TITLE=West Crescent\, Palm Jumeirah:geo:55.1341777,25.0992805
END:VEVENT
BEGIN:VEVENT
DTSTART;TZID=Asia/Dubai:20230824T193000
DTEND;TZID=Asia/Dubai:20230824T210000
DTSTAMP:20260422T003419
CREATED:20230817T175540Z
LAST-MODIFIED:20230817T175540Z
UID:10005091-1692905400-1692910800@magpie.ae
SUMMARY:Bellissima | Beautiful: dir Luchino Visconti (1951)
DESCRIPTION:A newly restored print of this black-and-white classic. It’s a pointed satire on the film industry; Maddalena (Anna Magnani) is a screenstruck mother convinced of the star potential of her daughter Maria (Tina Apicella) and desperate to escape of everyday existence in working-class Rome. But overhearing the film crew’s candid assessment of her daughter’s audition\, Maddalena is forced to reconsider her views on the film industry and its world of illusions … Highly recommended.
URL:https://magpie.ae/event/bellissima-beautiful-dir-luchino-visconti-1951/
LOCATION:Cinema Akil\, Warehouse 68\, Alserkal Avenue\, Dubai
CATEGORIES:Film
ATTACH;FMTTYPE=image/png:https://magpie.ae/wp-content/uploads/2023/08/Bellissima-1951-Luchino-Visconti-recensione.png
GEO:25.142327;55.2242909
X-APPLE-STRUCTURED-LOCATION;VALUE=URI;X-ADDRESS=Cinema Akil Warehouse 68 Alserkal Avenue Dubai;X-APPLE-RADIUS=500;X-TITLE=Warehouse 68\, Alserkal Avenue:geo:55.2242909,25.142327
END:VEVENT
END:VCALENDAR