BEGIN:VCALENDAR
VERSION:2.0
PRODID:-//magpie - ECPv6.15.20//NONSGML v1.0//EN
CALSCALE:GREGORIAN
METHOD:PUBLISH
X-ORIGINAL-URL:https://magpie.ae
X-WR-CALDESC:Events for magpie
REFRESH-INTERVAL;VALUE=DURATION:PT1H
X-Robots-Tag:noindex
X-PUBLISHED-TTL:PT1H
BEGIN:VTIMEZONE
TZID:Asia/Dubai
BEGIN:STANDARD
TZOFFSETFROM:+0400
TZOFFSETTO:+0400
TZNAME:+04
DTSTART:20220101T000000
END:STANDARD
END:VTIMEZONE
BEGIN:VEVENT
DTSTART;TZID=Asia/Dubai:20230813T193000
DTEND;TZID=Asia/Dubai:20230813T210000
DTSTAMP:20260422T123849
CREATED:20230731T082442Z
LAST-MODIFIED:20230731T082442Z
UID:10005073-1691955000-1691960400@magpie.ae
SUMMARY:Sohni Mahiwal
DESCRIPTION:The second and final performance of this epic love story\, timed for the Independence Day weekend of India and Pakistan. Sohni Mahiwal (or Suhni Mehar) is a long-established tragic romance from Sindh and Punjab\, dating back to the 10th century and regularly reworked in song\, theatre and film. The heroine Sohni\, unhappily married to a man she despises (usually depicted as a maker of pottery)\, swims every night across the river to her lover Mahiwal – whose name means ‘buffalo herder’ because he does indeed look after a herd buffaloes. The river is fierce and she uses an earthenware pot as a buoyancy aid; but her sister in law learns of the relationship and replaces it with a vessel of unbaked clay which dissolves in the water … \nThe production includes live music and creative storytelling in exploring themes of love\, sacrifice and tragedy in the face of social disapproval. It’s a collaboration between Behind the Mask Productions\, Tall Tales Productions\, and the Junction; the director\, Alishan Bin Sohail\, promises that “our talented cast and creative team\, combined with our commitment to producing a high-quality production\, make us confident that this play will resonate with audiences and provide an important perspective on the impact of natural disasters on love and relationships”. \nThe show is primarily in Urdu/Hindi\, but there are English subtitles.
URL:https://magpie.ae/event/sohni-mahiwal-2/
LOCATION:The Junction\, Unit H72\, Alserkal Avenue\, Dubai\, United Arab Emirates
CATEGORIES:Theatre
GEO:25.1431157;55.2246127
X-APPLE-STRUCTURED-LOCATION;VALUE=URI;X-ADDRESS=The Junction Unit H72 Alserkal Avenue Dubai United Arab Emirates;X-APPLE-RADIUS=500;X-TITLE=Unit H72\, Alserkal Avenue:geo:55.2246127,25.1431157
END:VEVENT
END:VCALENDAR